{"text_format":"2","workbook":"xlsx","n_sheets":6,"sheets":["Menu","Prépa","Res","ABCDEF","Feuil1","Feuil2"],"not_rendered":{"charts":0,"images":4,"macros":1,"external_links":0,"defined_names":5,"comments":0,"pivot_tables":0},"unopened":[],"bounds":{"document_bytes":16777216,"sheet_cells":100000,"run_cost":"one","rows_first":2000,"rows_last":500,"rows_between":2000,"halvings":0,"cell_chars":16384,"cell_head_chars":4096},"cells_cut":0,"cells_raw":0,"read":"whole","date_system":"1900"}

{"sheet":"Menu","index":0,"n_rows":1,"n_cols":1,"rows_kept":1,"cut":false,"hidden":false,"merged":[]}
["Challenge Alain Séris"]

{"sheet":"Prépa","index":1,"n_rows":34,"n_cols":8,"rows_kept":34,"cut":false,"hidden":false,"merged":[]}
[]
["TITRE DE LA COMPETITION :",null,null,"championnat départemental par équipes 2011"]
[]
["Sous TITRE DE LA COMPETITION :",null,null,"1er Tour Royan 10 avril 2011"]
[]
["Date et Lieu :",null,null,"2ème Tour Saintes 9 octobre 2011"]
[]
["Nombre d'équipes qualifiées :"]
[]
[]
["NOM DES CLUBS :",null,1,"LA JARNE 1",null,null,"Trou","Par"]
[null,null,2,"LA JARNE 2",null,null,1,4]
[null,null,3,"LA PALMYRE 1",null,null,2,4]
[null,null,4,"LA PALMYRE 2",null,null,3,5]
[null,null,5,"LA PALMYRE 3",null,null,4,3]
[null,null,6,"MONTENDRE 1",null,null,5,4]
[null,null,7,"MONTENDRE 2",null,null,6,4]
[null,null,8,"MONTENDRE 3",null,null,7,4]
[null,null,9,"OLERON 1",null,null,8,3]
[null,null,10,"OLERON 2",null,null,9,4]
[null,null,11,"OLERON 3",null,null,10,5]
[null,null,12,"ROYAN 1",null,null,11,4]
[null,null,13,"ROYAN 2",null,null,12,4]
[null,null,14,"ROYAN 3",null,null,13,5]
[null,null,15,"SAINTONGE 1",null,null,14,3]
[null,null,16,"SAINTONGE 2",null,null,15,4]
[null,null,17,"LA ROCHELLE 1",null,null,16,4]
[null,null,18,"LA ROCHELLE 2",null,null,17,3]
[null,null,19,"LA ROCHELLE 3",null,null,18,4]
[null,null,20,"ROCHEFORT 1"]
[null,null,21,"ROCHEFORT 2"]
[null,null,22,"LA VALLADE 1"]
[null,null,23,"SAINTONGE 3"]
[null,null,24]

{"sheet":"Res","index":2,"n_rows":223,"n_cols":26,"rows_kept":223,"cut":false,"hidden":false,"merged":[[0,1,0,8],[2,1,2,8],[4,1,4,8]]}
[null,{"$f":"Prépa!D2","v":"championnat départemental par équipes 2011"},{"$nulls":22},{"$f":"Prépa!G12","v":1},{"$f":"Prépa!H12","v":4}]
[{"$nulls":24},{"$f":"Prépa!G13","v":2},{"$f":"Prépa!H13","v":4}]
[null,{"$f":"Prépa!D4","v":"1er Tour Royan 10 avril 2011"},{"$nulls":22},{"$f":"Prépa!G14","v":3},{"$f":"Prépa!H14","v":5}]
[{"$nulls":24},{"$f":"Prépa!G15","v":4},{"$f":"Prépa!H15","v":3}]
[null,{"$f":"Prépa!D6","v":"2ème Tour Saintes 9 octobre 2011"},{"$nulls":22},{"$f":"Prépa!G16","v":5},{"$f":"Prépa!H16","v":4}]
[{"$nulls":24},{"$f":"Prépa!G17","v":6},{"$f":"Prépa!H17","v":4}]
[{"$nulls":24},{"$f":"Prépa!G18","v":7},{"$f":"Prépa!H18","v":4}]
[{"$nulls":24},{"$f":"Prépa!G19","v":8},{"$f":"Prépa!H19","v":3}]
[{"$f":"Prépa!C11","v":1},{"$f":"Prépa!D11","v":"LA JARNE 1"},null,null,"Rang ",{"$f":"ABCDEF!$Z$11","v":1},null,"TOTAL",{"$f":"IF(OR(E16=\"FOR\",I16=\"FOR\"),\"FOR\",IF(OR(ISTEXT(E16),ISTEXT(I16)),\"DIS\",(E16)+(I16)))","v":190},{"$nulls":15},{"$f":"Prépa!G20","v":9},{"$f":"Prépa!H20","v":4}]
[null,"A",23,"ROMEZ .X",14,"A",17,"ROMEZ .X",23,null,{"$f":"IF(E10=\"For\",10,IF(ISTEXT(E10),1,0))","v":0},{"$f":"IF(OR(ISNUMBER(E10),ISBLANK(E10)),E10,0)","v":14},{"$f":"MIN(L10:L15)","v":14},{"$f":"IF(I10=\"For\",10,IF(ISTEXT(I10),1,0))","v":0},{"$f":"IF(OR(ISNUMBER(I10),ISBLANK(I10)),I10,0)","v":23},{"$f":"MIN(O10:O15)","v":9},{"$nulls":8},{"$f":"Prépa!G21","v":10},{"$f":"Prépa!H21","v":5}]
[null,"B",30,"CARON  G.",14,"B",30,"MAGARA G.",9,null,0,14,{"$f":"MAX(L10:L15)","v":24},0,9,{"$f":"MAX(O10:O15)","v":24},{"$nulls":8},{"$f":"Prépa!G22","v":11},{"$f":"Prépa!H22","v":4}]
[null,"C",18,"TREMEGE M.",14,"C",15,"ROUY  G.",19,null,0,14,{"$f":"SMALL(E10:E15,2)","v":14},0,19,{"$f":"LARGE(I10:I15,2)","v":23},{"$nulls":8},{"$f":"Prépa!G23","v":12},{"$f":"Prépa!H23","v":4}]
[null,"D",13,"HOCQUARD A,",24,"D",24,"TENADET  E.",13,null,0,24,{"$f":"LARGE(E10:E15,3)","v":18},0,13,{"$f":"LARGE(I10:I15,3)","v":21},{"$nulls":8},{"$f":"Prépa!G24","v":13},{"$f":"Prépa!H24","v":5}]
[null,"E",13,"VITALI P.",18,"E",13,"VITALI  P.",21,null,0,18,{"$f":"LARGE(E10:E15,4)","v":14},0,21,{"$f":"LARGE(I10:I15,4)","v":19},{"$nulls":8},{"$f":"Prépa!G25","v":14},{"$f":"Prépa!H25","v":3}]
[null,"F",13,"BARSZEZAK F.",20,"F",13,"BARSZEZAK F.",24,null,0,20,{"$f":"LARGE(E10:E15,5)","v":14},0,24,{"$f":"LARGE(I10:I15,5)","v":13},{"$nulls":8},{"$f":"Prépa!G26","v":15},{"$f":"Prépa!H26","v":4}]
[null,null,null,"5 meilleures 1er JOUR ",{"$f":"IF(K16>6,\"FOR\",IF(K16>1,\"DIS\",IF(COUNTBLANK(E10:E15)>0,L16,L16-M10)))","v":90},null,null,"5 meilleures 2ème JOUR ",{"$f":"IF(N16>6,\"FOR\",IF(N16>1,\"DIS\",IF(COUNTBLANK(I10:I15)>0,O16,O16-P10)))","v":100},null,{"$f":"SUM(K10:K15)","v":0},{"$f":"SUM(L10:L15)","v":104},null,{"$f":"SUM(N10:N15)","v":0},{"$f":"SUM(O10:O15)","v":109},{"$nulls":9},{"$f":"Prépa!G27","v":16},{"$f":"Prépa!H27","v":4}]
[{"$nulls":24},{"$f":"Prépa!G28","v":17},{"$f":"Prépa!H28","v":3}]
[{"$f":"Prépa!C12","v":2},{"$f":"Prépa!D12","v":"LA JARNE 2"},null,null,"Rang ",{"$f":"ABCDEF!$Z$12","v":2},null,"TOTAL",{"$f":"IF(OR(E25=\"FOR\",I25=\"FOR\"),\"FOR\",IF(OR(ISTEXT(E25),ISTEXT(I25)),\"DIS\",(E25)+(I25)))","v":164},{"$nulls":15},{"$f":"Prépa!G29","v":18},{"$f":"Prépa!H29","v":4}]
[null,"A",22,"DIET C.",11,"A",22,"MARTEL  S.",25,null,{"$f":"IF(E19=\"For\",10,IF(ISTEXT(E19),1,0))","v":0},{"$f":"IF(OR(ISNUMBER(E19),ISBLANK(E19)),E19,0)","v":11},{"$f":"MIN(L19:L24)","v":5},{"$f":"IF(I19=\"For\",10,IF(ISTEXT(I19),1,0))","v":0},{"$f":"IF(OR(ISNUMBER(I19),ISBLANK(I19)),I19,0)","v":25},{"$f":"MIN(O19:O24)","v":9}]
[null,"B",18,"AUBIN J.L.",19,"B",17,"TAILLEU   J.",24,null,0,19,{"$f":"MAX(L19:L24)","v":19},0,24,{"$f":"MAX(O19:O24)","v":25}]
[null,"C",21,"ILEAU J.J.",6,"C",18,"AUBIN  J.L.",16,null,0,6,{"$f":"SMALL(E19:E24,2)","v":6},0,16,{"$f":"LARGE(I19:I24,2)","v":24}]
[null,"D",36,"MAGARA G.",5,"D",20,"EUGENE  R.",18,null,0,5,{"$f":"LARGE(E19:E24,3)","v":11},0,18,{"$f":"LARGE(I19:I24,3)","v":18}]
[null,"E",13,"BENOIS G.",11,"E",24,"DOCHEZ  J.C.",9,null,0,11,{"$f":"LARGE(E19:E24,4)","v":11},0,9,{"$f":"LARGE(I19:I24,4)","v":16}]
[null,"F",17,"BONNET F.",18,"F",23,"CARON  G.",16,null,0,18,{"$f":"LARGE(E19:E24,5)","v":6},0,16,{"$f":"LARGE(I19:I24,5)","v":16}]
[null,null,null,"5 meilleures 1er JOUR ",{"$f":"IF(K25>6,\"FOR\",IF(K25>1,\"DIS\",IF(COUNTBLANK(E19:E24)>0,L25,L25-M19)))","v":65},null,null,"5 meilleures 2ème JOUR ",{"$f":"IF(N25>6,\"FOR\",IF(N25>1,\"DIS\",IF(COUNTBLANK(I19:I24)>0,O25,O25-P19)))","v":99},null,{"$f":"SUM(K19:K24)","v":0},{"$f":"SUM(L19:L24)","v":70},null,{"$f":"SUM(N19:N24)","v":0},{"$f":"SUM(O19:O24)","v":108}]
[]
[{"$f":"Prépa!C13","v":3},{"$f":"Prépa!D13","v":"LA PALMYRE 1"},null,null,"Rang ",{"$f":"ABCDEF!$Z$13","v":3},null,"TOTAL",{"$f":"IF(OR(E34=\"FOR\",I34=\"FOR\"),\"FOR\",IF(OR(ISTEXT(E34),ISTEXT(I34)),\"DIS\",(E34)+(I34)))","v":147}]
[null,"A",16,"FERRON G.",17,"A",15,"MARTY  L.",21,null,{"$f":"IF(E28=\"For\",10,IF(ISTEXT(E28),1,0))","v":0},{"$f":"IF(OR(ISNUMBER(E28),ISBLANK(E28)),E28,0)","v":17},{"$f":"MIN(L28:L33)","v":8},{"$f":"IF(I28=\"For\",10,IF(ISTEXT(I28),1,0))","v":0},{"$f":"IF(OR(ISNUMBER(I28),ISBLANK(I28)),I28,0)","v":21},{"$f":"MIN(O28:O33)","v":7}]
[null,"B",14,"MARTY L.",21,"B",25,"BRILLANT  A.",7,null,0,21,{"$f":"MAX(L28:L33)","v":21},0,7,{"$f":"MAX(O28:O33)","v":21}]
[null,"C",25,"ABBES M.",12,"C",23,"ABBES M.",16,null,0,12,{"$f":"SMALL(E28:E33,2)","v":9},0,16,{"$f":"LARGE(I28:I33,2)","v":21}]
[null,"D",29,"SOCHA F.",8,"D",13,"HERVE  J.",21,null,0,8,{"$f":"LARGE(E28:E33,3)","v":12},0,21,{"$f":"LARGE(I28:I33,3)","v":16}]
[null,"E",19,"ANTONY M.",12,"E",36,"LEBRETON  C.",7,null,0,12,{"$f":"LARGE(E28:E33,4)","v":12},0,7,{"$f":"LARGE(I28:I33,4)","v":11}]
[null,"F",23,"STOCCHI C.",9,"F",25,"LEBRETON   N..",11,null,0,9,{"$f":"LARGE(E28:E33,5)","v":9},0,11,{"$f":"LARGE(I28:I33,5)","v":7}]
[null,null,null,"5 meilleures 1er JOUR ",{"$f":"IF(K34>6,\"FOR\",IF(K34>1,\"DIS\",IF(COUNTBLANK(E28:E33)>0,L34,L34-M28)))","v":71},null,null,"5 meilleures 2ème JOUR ",{"$f":"IF(N34>6,\"FOR\",IF(N34>1,\"DIS\",IF(COUNTBLANK(I28:I33)>0,O34,O34-P28)))","v":76},null,{"$f":"SUM(K28:K33)","v":0},{"$f":"SUM(L28:L33)","v":79},null,{"$f":"SUM(N28:N33)","v":0},{"$f":"SUM(O28:O33)","v":83}]
[]
[{"$f":"Prépa!C14","v":4},{"$f":"Prépa!D14","v":"LA PALMYRE 2"},null,null,"Rang ",{"$f":"ABCDEF!$Z$14","v":4},null,"TOTAL"]
[null,"A",13,"DUTRIAS P.",19,"A",{"$nulls":4},{"$f":"IF(E37=\"For\",10,IF(ISTEXT(E37),1,0))","v":0},{"$f":"IF(OR(ISNUMBER(E37),ISBLANK(E37)),E37,0)","v":19},{"$f":"MIN(L37:L42)","v":5},{"$f":"IF(I37=\"For\",10,IF(ISTEXT(I37),1,0))","v":0},{"$f":"IF(OR(ISNUMBER(I37),ISBLANK(I37)),I37,0)","v":0},{"$f":"MIN(O37:O42)","v":0}]
[null,"B",15,"GASSIAN  F.",10,"B",{"$nulls":4},0,10,{"$f":"MAX(L37:L42)","v":19},0,0,{"$f":"MAX(O37:O42)","v":0}]
[null,"C",31,"LEBRETON  N.",13,"C",{"$nulls":4},0,13,{"$f":"SMALL(E37:E42,2)","v":7},0,0,{"$f":"LARGE(I37:I42,2)","v":{"$error":"#NUM!"}}]
[null,"D",28,"SCHMITT  F.",5,"D",{"$nulls":4},0,5,{"$f":"LARGE(E37:E42,3)","v":10},0,0,{"$f":"LARGE(I37:I42,3)","v":{"$error":"#NUM!"}}]
[null,"E",33,"GIRARD D.",7,"E",{"$nulls":4},0,7,{"$f":"LARGE(E37:E42,4)","v":7},0,0,{"$f":"LARGE(I37:I42,4)","v":{"$error":"#NUM!"}}]
[null,"F",34,"COUTRAS N.",7,"F",{"$nulls":4},0,7,{"$f":"LARGE(E37:E42,5)","v":7},0,0,{"$f":"LARGE(I37:I42,5)","v":{"$error":"#NUM!"}}]
[null,null,null,"5 meilleures 1er JOUR ",{"$f":"IF(K43>6,\"FOR\",IF(K43>1,\"DIS\",IF(COUNTBLANK(E37:E42)>0,L43,L43-M37)))","v":56},null,null,"5 meilleures 2ème JOUR ",{"$f":"IF(N43>6,\"FOR\",IF(N43>1,\"DIS\",IF(COUNTBLANK(I37:I42)>0,O43,O43-P37)))","v":0},null,{"$f":"SUM(K37:K42)","v":0},{"$f":"SUM(L37:L42)","v":61},null,{"$f":"SUM(N37:N42)","v":0},{"$f":"SUM(O37:O42)","v":0}]
[]
[{"$f":"Prépa!C15","v":5},{"$f":"Prépa!D15","v":"LA PALMYRE 3"},null,null,"Rang ",{"$f":"ABCDEF!$Z$15","v":5},null,"TOTAL",{"$f":"IF(OR(E52=\"FOR\",I52=\"FOR\"),\"FOR\",IF(OR(ISTEXT(E52),ISTEXT(I52)),\"DIS\",(E52)+(I52)))","v":62}]
[null,"A",24,"ORDONNAUD  F.",13,"A",{"$nulls":4},{"$f":"IF(E46=\"For\",10,IF(ISTEXT(E46),1,0))","v":0},{"$f":"IF(OR(ISNUMBER(E46),ISBLANK(E46)),E46,0)","v":13},{"$f":"MIN(L46:L51)","v":0},{"$f":"IF(I46=\"For\",10,IF(ISTEXT(I46),1,0))","v":0},{"$f":"IF(OR(ISNUMBER(I46),ISBLANK(I46)),I46,0)","v":0},{"$f":"MIN(O46:O51)","v":0}]
[null,"B",30,"COUBRET J.L.",0,"B",{"$nulls":4},0,0,{"$f":"MAX(L46:L51)","v":15},0,0,{"$f":"MAX(O46:O51)","v":0}]
[null,"C",14,"BOULANGER J. M.",15,"C",{"$nulls":4},0,15,{"$f":"SMALL(E46:E51,2)","v":8},0,0,{"$f":"LARGE(I46:I51,2)","v":{"$error":"#NUM!"}}]
[null,"D",25,"SIMON  P.",15,"D",{"$nulls":4},0,15,{"$f":"LARGE(E46:E51,3)","v":13},0,0,{"$f":"LARGE(I46:I51,3)","v":{"$error":"#NUM!"}}]
[null,"E",27,"BRILLANT A.",11,"E",{"$nulls":4},0,11,{"$f":"LARGE(E46:E51,4)","v":11},0,0,{"$f":"LARGE(I46:I51,4)","v":{"$error":"#NUM!"}}]
[null,"F",18,"BOURBONNAIS  R.",8,"F",{"$nulls":4},0,8,{"$f":"LARGE(E46:E51,5)","v":8},0,0,{"$f":"LARGE(I46:I51,5)","v":{"$error":"#NUM!"}}]
[null,null,null,"5 meilleures 1er JOUR ",{"$f":"IF(K52>6,\"FOR\",IF(K52>1,\"DIS\",IF(COUNTBLANK(E46:E51)>0,L52,L52-M46)))","v":62},null,null,"5 meilleures 2ème JOUR ",{"$f":"IF(N52>6,\"FOR\",IF(N52>1,\"DIS\",IF(COUNTBLANK(I46:I51)>0,O52,O52-P46)))","v":0},null,{"$f":"SUM(K46:K51)","v":0},{"$f":"SUM(L46:L51)","v":62},null,{"$f":"SUM(N46:N51)","v":0},{"$f":"SUM(O46:O51)","v":0}]
[]
[{"$f":"Prépa!C16","v":6},{"$f":"Prépa!D16","v":"MONTENDRE 1"},null,null,"Rang ",{"$f":"ABCDEF!$Z$16","v":6},null,"TOTAL",{"$f":"IF(OR(E61=\"FOR\",I61=\"FOR\"),\"FOR\",IF(OR(ISTEXT(E61),ISTEXT(I61)),\"DIS\",(E61)+(I61)))","v":179}]
[null,"A",16,"FAURE  D.",17,"A",14,"RAULT  G.",23,null,{"$f":"IF(E55=\"For\",10,IF(ISTEXT(E55),1,0))","v":0},{"$f":"IF(OR(ISNUMBER(E55),ISBLANK(E55)),E55,0)","v":17},{"$f":"MIN(L55:L60)","v":12},{"$f":"IF(I55=\"For\",10,IF(ISTEXT(I55),1,0))","v":0},{"$f":"IF(OR(ISNUMBER(I55),ISBLANK(I55)),I55,0)","v":23},{"$f":"MIN(O55:O60)","v":9}]
[null,"B",14,"DUCAU  H.",14,"B",32,"COUREAU  N.",9,null,0,14,{"$f":"MAX(L55:L60)","v":21},0,9,{"$f":"MAX(O55:O60)","v":23}]
[null,"C",17,"PASQUET  P.",21,"C",16,"FAURE  D.",14,null,0,21,{"$f":"SMALL(E55:E60,2)","v":14},0,14,{"$f":"LARGE(I55:I60,2)","v":22}]
[null,"D",18,"DEFAYE  D.",19,"D",16,"MASSE  P.",18,null,0,19,{"$f":"LARGE(E55:E60,3)","v":17},0,18,{"$f":"LARGE(I55:I60,3)","v":18}]
[null,"E",24,"NAISSANT  S.",12,"E",20,"BLOUIN  F.",17,null,0,12,{"$f":"LARGE(E55:E60,4)","v":14},0,17,{"$f":"LARGE(I55:I60,4)","v":17}]
[null,"F",26,"COUREAUD  A.",14,"F",15,"DUCAU  H.",22,null,0,14,{"$f":"LARGE(E55:E60,5)","v":14},0,22,{"$f":"LARGE(I55:I60,5)","v":14}]
[null,null,null,"5 meilleures 1er JOUR ",{"$f":"IF(K61>6,\"FOR\",IF(K61>1,\"DIS\",IF(COUNTBLANK(E55:E60)>0,L61,L61-M55)))","v":85},null,null,"5 meilleures 2ème JOUR ",{"$f":"IF(N61>6,\"FOR\",IF(N61>1,\"DIS\",IF(COUNTBLANK(I55:I60)>0,O61,O61-P55)))","v":94},null,{"$f":"SUM(K55:K60)","v":0},{"$f":"SUM(L55:L60)","v":97},null,{"$f":"SUM(N55:N60)","v":0},{"$f":"SUM(O55:O60)","v":103}]
[]
[{"$f":"Prépa!C17","v":7},{"$f":"Prépa!D17","v":"MONTENDRE 2"},null,null,"Rang ",{"$f":"ABCDEF!$Z$17","v":7},null,"TOTAL",{"$f":"IF(OR(E70=\"FOR\",I70=\"FOR\"),\"FOR\",IF(OR(ISTEXT(E70),ISTEXT(I70)),\"DIS\",(E70)+(I70)))","v":131}]
[null,"A",20,"DAUBANES J. P.",15,"A",16,"PASQUET  P.",21,null,{"$f":"IF(E64=\"For\",10,IF(ISTEXT(E64),1,0))","v":0},{"$f":"IF(OR(ISNUMBER(E64),ISBLANK(E64)),E64,0)","v":15},{"$f":"MIN(L64:L69)","v":7},{"$f":"IF(I64=\"For\",10,IF(ISTEXT(I64),1,0))","v":0},{"$f":"IF(OR(ISNUMBER(I64),ISBLANK(I64)),I64,0)","v":21},{"$f":"MIN(O64:O69)","v":6}]
[null,"B",19,"BLOUIN  F.",8,"B",18,"DEFAYE  D.",14,null,0,8,{"$f":"MAX(L64:L69)","v":15},0,14,{"$f":"MAX(O64:O69)","v":21}]
[null,"C",21,"SCHELSTRAETE M.",10,"C",20,"DAUBANES J. P.",18,null,0,10,{"$f":"SMALL(E64:E69,2)","v":8},0,18,{"$f":"LARGE(I64:I69,2)","v":18}]
[null,"D",27,"BENHAMOU  B.",8,"D",19,"BERTET  J.",6,null,0,8,{"$f":"LARGE(E64:E69,3)","v":10},0,6,{"$f":"LARGE(I64:I69,3)","v":14}]
[null,"E",28,"CALVET  L.",12,"E",24,"COUREAUD  A.",11,null,0,12,{"$f":"LARGE(E64:E69,4)","v":8},0,11,{"$f":"LARGE(I64:I69,4)","v":14}]
[null,"F",30,"ROMO  J.",7,"F",25,"MONTERO  P.",14,null,0,7,{"$f":"LARGE(E64:E69,5)","v":8},0,14,{"$f":"LARGE(I64:I69,5)","v":11}]
[null,null,null,"5 meilleures 1er JOUR ",{"$f":"IF(K70>6,\"FOR\",IF(K70>1,\"DIS\",IF(COUNTBLANK(E64:E69)>0,L70,L70-M64)))","v":53},null,null,"5 meilleures 2ème JOUR ",{"$f":"IF(N70>6,\"FOR\",IF(N70>1,\"DIS\",IF(COUNTBLANK(I64:I69)>0,O70,O70-P64)))","v":78},null,{"$f":"SUM(K64:K69)","v":0},{"$f":"SUM(L64:L69)","v":60},null,{"$f":"SUM(N64:N69)","v":0},{"$f":"SUM(O64:O69)","v":84}]
[]
[{"$f":"Prépa!C18","v":8},{"$f":"Prépa!D18","v":"MONTENDRE 3"},null,null,"Rang ",{"$f":"ABCDEF!$Z$18","v":9},null,"TOTAL",{"$f":"IF(OR(E79=\"FOR\",I79=\"FOR\"),\"FOR\",IF(OR(ISTEXT(E79),ISTEXT(I79)),\"DIS\",(E79)+(I79)))","v":"FOR"}]
[null,"A",34,"BALDOMERO  P.",11,"A",36,"DEJOUX  A.",9,null,{"$f":"IF(E73=\"For\",10,IF(ISTEXT(E73),1,0))","v":0},{"$f":"IF(OR(ISNUMBER(E73),ISBLANK(E73)),E73,0)","v":11},{"$f":"MIN(L73:L78)","v":0},{"$f":"IF(I73=\"For\",10,IF(ISTEXT(I73),1,0))","v":0},{"$f":"IF(OR(ISNUMBER(I73),ISBLANK(I73)),I73,0)","v":9},{"$f":"MIN(O73:O78)","v":0}]
[null,"B",36,"GAUCI   L.",5,"B",36,"HERAULT  J.",3,null,0,5,{"$f":"MAX(L73:L78)","v":11},0,3,{"$f":"MAX(O73:O78)","v":12}]
[null,"C",36,"COUREAU  N.",5,"C",30,"VIGEANT  W.",6,null,0,5,{"$f":"SMALL(E73:E78,2)","v":5},0,6,{"$f":"LARGE(I73:I78,2)","v":11}]
[null,"D",36,"HERAULT  J.",3,"D",29,"BALDOMERO  P.",11,null,0,3,{"$f":"LARGE(E73:E78,3)","v":5},0,11,{"$f":"LARGE(I73:I78,3)","v":9}]
[null,"E",26,"ERB  C.","for","E",27,"BENHAMOU  B.",12,null,10,0,{"$f":"LARGE(E73:E78,4)","v":3},0,12,{"$f":"LARGE(I73:I78,4)","v":6}]
[null,"F",27,"SAUVAT  P.","for","F",{"$nulls":4},10,0,{"$f":"LARGE(E73:E78,5)","v":{"$error":"#NUM!"}},0,0,{"$f":"LARGE(I73:I78,5)","v":3}]
[null,null,null,"5 meilleures 1er JOUR ",{"$f":"IF(K79>6,\"FOR\",IF(K79>1,\"DIS\",IF(COUNTBLANK(E73:E78)>0,L79,L79-M73)))","v":"FOR"},null,null,"5 meilleures 2ème JOUR ",{"$f":"IF(N79>6,\"FOR\",IF(N79>1,\"DIS\",IF(COUNTBLANK(I73:I78)>0,O79,O79-P73)))","v":41},null,{"$f":"SUM(K73:K78)","v":20},{"$f":"SUM(L73:L78)","v":24},null,{"$f":"SUM(N73:N78)","v":0},{"$f":"SUM(O73:O78)","v":41}]
[]
[{"$f":"Prépa!C19","v":9},"OLERON   1",null,null,"Rang ",{"$f":"ABCDEF!$Z$19","v":10},null,"TOTAL",{"$f":"IF(OR(E88=\"FOR\",I88=\"FOR\"),\"FOR\",IF(OR(ISTEXT(E88),ISTEXT(I88)),\"DIS\",(E88)+(I88)))","v":149}]
[null,"A",16,"PIQUET  C.",19,"A",18,"DANTON  D.",13,null,{"$f":"IF(E82=\"For\",10,IF(ISTEXT(E82),1,0))","v":0},{"$f":"IF(OR(ISNUMBER(E82),ISBLANK(E82)),E82,0)","v":19},{"$f":"MIN(L82:L87)","v":10},{"$f":"IF(I82=\"For\",10,IF(ISTEXT(I82),1,0))","v":0},{"$f":"IF(OR(ISNUMBER(I82),ISBLANK(I82)),I82,0)","v":13},{"$f":"MIN(O82:O87)","v":10}]
[null,"B",16,"SPIRIDONOV  P.",20,"B",17,"CHALIN  J.P.",11,null,0,20,{"$f":"MAX(L82:L87)","v":20},0,11,{"$f":"MAX(O82:O87)","v":17}]
[null,"C",29,"BENOIST  F.",10,"C",14,"GISLARD  P.",17,null,0,10,{"$f":"SMALL(E82:E87,2)","v":13},0,17,{"$f":"LARGE(I82:I87,2)","v":15}]
[null,"D",17,"DANTON  D.",13,"D",21,"CIPIERRE  M.",10,null,0,13,{"$f":"LARGE(E82:E87,3)","v":17},0,10,{"$f":"LARGE(I82:I87,3)","v":13}]
[null,"E",15,"AMINOT S.",17,"E",24,"ANDRIEUX  J.P.",11,null,0,17,{"$f":"LARGE(E82:E87,4)","v":13},0,11,{"$f":"LARGE(I82:I87,4)","v":11}]
[null,"F",17,"FIGUERA  M.",13,"F",16,"AMINOT  S.",15,null,0,13,{"$f":"LARGE(E82:E87,5)","v":13},0,15,{"$f":"LARGE(I82:I87,5)","v":11}]
[null,null,null,"5 meilleures 1er JOUR ",{"$f":"IF(K88>6,\"FOR\",IF(K88>1,\"DIS\",IF(COUNTBLANK(E82:E87)>0,L88,L88-M82)))","v":82},null,null,"5 meilleures 2ème JOUR ",{"$f":"IF(N88>6,\"FOR\",IF(N88>1,\"DIS\",IF(COUNTBLANK(I82:I87)>0,O88,O88-P82)))","v":67},null,{"$f":"SUM(K82:K87)","v":0},{"$f":"SUM(L82:L87)","v":92},null,{"$f":"SUM(N82:N87)","v":0},{"$f":"SUM(O82:O87)","v":77}]
[]
[{"$f":"Prépa!C20","v":10},{"$f":"Prépa!D20","v":"OLERON 2"},null,null,"Rang ",{"$f":"ABCDEF!$Z$20","v":11},null,"TOTAL",{"$f":"IF(OR(E97=\"FOR\",I97=\"FOR\"),\"FOR\",IF(OR(ISTEXT(E97),ISTEXT(I97)),\"DIS\",(E97)+(I97)))","v":136}]
[null,"A",18,"LALIS  J.",14,"A",26,"BENOIST F.",5,null,{"$f":"IF(E91=\"For\",10,IF(ISTEXT(E91),1,0))","v":0},{"$f":"IF(OR(ISNUMBER(E91),ISBLANK(E91)),E91,0)","v":14},{"$f":"MIN(L91:L96)","v":5},{"$f":"IF(I91=\"For\",10,IF(ISTEXT(I91),1,0))","v":0},{"$f":"IF(OR(ISNUMBER(I91),ISBLANK(I91)),I91,0)","v":5},{"$f":"MIN(O91:O96)","v":5}]
[null,"B",16,"CHALIN J .P.",11,"B",25,"CHALIN  M.",14,null,0,11,{"$f":"MAX(L91:L96)","v":22},0,14,{"$f":"MAX(O91:O96)","v":18}]
[null,"C",26,"CHALIN M.",5,"C",20,"GUILLOCHEAU J.M.",14,null,0,5,{"$f":"SMALL(E91:E96,2)","v":8},0,14,{"$f":"LARGE(I91:I96,2)","v":14}]
[null,"D",16,"DECLERC  A.",22,"D",31,"CIPIERRE   C.",9,null,0,22,{"$f":"LARGE(E91:E96,3)","v":13},0,9,{"$f":"LARGE(I91:I96,3)","v":14}]
[null,"E",16,"GISLARD  P.",13,"E",13,"GAUTIER  F.",18,null,0,13,{"$f":"LARGE(E91:E96,4)","v":11},0,18,{"$f":"LARGE(I91:I96,4)","v":13}]
[null,"F",22,"FIGUERA  A.",8,"F",13,"MOUNIER  P.",13,null,0,8,{"$f":"LARGE(E91:E96,5)","v":8},0,13,{"$f":"LARGE(I91:I96,5)","v":9}]
[null,null,null,"5 meilleures 1er JOUR ",{"$f":"IF(K97>6,\"FOR\",IF(K97>1,\"DIS\",IF(COUNTBLANK(E91:E96)>0,L97,L97-M91)))","v":68},null,null,"5 meilleures 2ème JOUR ",{"$f":"IF(N97>6,\"FOR\",IF(N97>1,\"DIS\",IF(COUNTBLANK(I91:I96)>0,O97,O97-P91)))","v":68},null,{"$f":"SUM(K91:K96)","v":0},{"$f":"SUM(L91:L96)","v":73},null,{"$f":"SUM(N91:N96)","v":0},{"$f":"SUM(O91:O96)","v":73}]
[]
[{"$f":"Prépa!C21","v":11},{"$f":"Prépa!D21","v":"OLERON 3"},null,null,"Rang ",{"$f":"ABCDEF!$Z$21","v":12},null,"TOTAL",{"$f":"IF(OR(E106=\"FOR\",I106=\"FOR\"),\"FOR\",IF(OR(ISTEXT(E106),ISTEXT(I106)),\"DIS\",(E106)+(I106)))","v":102}]
[null,"A",23,"ANDRIEUX  J. P.",13,"A",14,"PIQUET  C.",11,null,{"$f":"IF(E100=\"For\",10,IF(ISTEXT(E100),1,0))","v":0},{"$f":"IF(OR(ISNUMBER(E100),ISBLANK(E100)),E100,0)","v":13},{"$f":"MIN(L100:L105)","v":4},{"$f":"IF(I100=\"For\",10,IF(ISTEXT(I100),1,0))","v":0},{"$f":"IF(OR(ISNUMBER(I100),ISBLANK(I100)),I100,0)","v":11},{"$f":"MIN(O100:O105)","v":4}]
[null,"B",20,"GUILLOCHEAU  J. M.",9,"B",17,"HEUDELOT  N.",8,null,0,9,{"$f":"MAX(L100:L105)","v":17},0,8,{"$f":"MAX(O100:O105)","v":11}]
[null,"C",22,"GAGNADOUX  D.",8,"C",29,"GUILLOCHEAU  N.",4,null,0,8,{"$f":"SMALL(E100:E105,2)","v":8},0,4,{"$f":"LARGE(I100:I105,2)","v":10}]
[null,"D",22,"GAGNADOUX  C.",9,"D",24,"LENOIR  P.",7,null,0,9,{"$f":"LARGE(E100:E105,3)","v":9},0,7,{"$f":"LARGE(I100:I105,3)","v":10}]
[null,"E",31,"LENOIR  P.",4,"E",23,"GAGNADOUX  D;",10,null,0,4,{"$f":"LARGE(E100:E105,4)","v":9},0,10,{"$f":"LARGE(I100:I105,4)","v":8}]
[null,"F",17,"HEUDOLOT  N.",17,"F",25,"MORGAT  X.",10,null,0,17,{"$f":"LARGE(E100:E105,5)","v":8},0,10,{"$f":"LARGE(I100:I105,5)","v":7}]
[null,null,null,"5 meilleures 1er JOUR ",{"$f":"IF(K106>6,\"FOR\",IF(K106>1,\"DIS\",IF(COUNTBLANK(E100:E105)>0,L106,L106-M100)))","v":56},null,null,"5 meilleures 2ème JOUR ",{"$f":"IF(N106>6,\"FOR\",IF(N106>1,\"DIS\",IF(COUNTBLANK(I100:I105)>0,O106,O106-P100)))","v":46},null,{"$f":"SUM(K100:K105)","v":0},{"$f":"SUM(L100:L105)","v":60},null,{"$f":"SUM(N100:N105)","v":0},{"$f":"SUM(O100:O105)","v":50}]
[]
[{"$f":"Prépa!C22","v":12},{"$f":"Prépa!D22","v":"ROYAN 1"},null,null,"Rang ",{"$f":"ABCDEF!$Z$22","v":13},null,"TOTAL",{"$f":"IF(OR(E115=\"FOR\",I115=\"FOR\"),\"FOR\",IF(OR(ISTEXT(E115),ISTEXT(I115)),\"DIS\",(E115)+(I115)))","v":85}]
[null,"A",13,"DOVERGNE  F.",22,"A",{"$nulls":4},{"$f":"IF(E109=\"For\",10,IF(ISTEXT(E109),1,0))","v":0},{"$f":"IF(OR(ISNUMBER(E109),ISBLANK(E109)),E109,0)","v":22},{"$f":"MIN(L109:L114)","v":8},{"$f":"IF(I109=\"For\",10,IF(ISTEXT(I109),1,0))","v":0},{"$f":"IF(OR(ISNUMBER(I109),ISBLANK(I109)),I109,0)","v":0},{"$f":"MIN(O109:O114)","v":0}]
[null,"B",15,"GASPARINI  M.",17,"B",{"$nulls":4},0,17,{"$f":"MAX(L109:L114)","v":22},0,0,{"$f":"MAX(O109:O114)","v":0}]
[null,"C",16,"FAURE  J.",17,"C",{"$nulls":4},0,17,{"$f":"SMALL(E109:E114,2)","v":10},0,0,{"$f":"LARGE(I109:I114,2)","v":{"$error":"#NUM!"}}]
[null,"D",19,"DUBOIS  J.C.",19,"D",{"$nulls":4},0,19,{"$f":"LARGE(E109:E114,3)","v":17},0,0,{"$f":"LARGE(I109:I114,3)","v":{"$error":"#NUM!"}}]
[null,"E",26,"BOYAUT  A.",8,"E",{"$nulls":4},0,8,{"$f":"LARGE(E109:E114,4)","v":17},0,0,{"$f":"LARGE(I109:I114,4)","v":{"$error":"#NUM!"}}]
[null,"F",29,"TIERS  P.",10,"F",{"$nulls":4},0,10,{"$f":"LARGE(E109:E114,5)","v":10},0,0,{"$f":"LARGE(I109:I114,5)","v":{"$error":"#NUM!"}}]
[null,null,null,"5 meilleures 1er JOUR ",{"$f":"IF(K115>6,\"FOR\",IF(K115>1,\"DIS\",IF(COUNTBLANK(E109:E114)>0,L115,L115-M109)))","v":85},null,null,"5 meilleures 2ème JOUR ",{"$f":"IF(N115>6,\"FOR\",IF(N115>1,\"DIS\",IF(COUNTBLANK(I109:I114)>0,O115,O115-P109)))","v":0},null,{"$f":"SUM(K109:K114)","v":0},{"$f":"SUM(L109:L114)","v":93},null,{"$f":"SUM(N109:N114)","v":0},{"$f":"SUM(O109:O114)","v":0}]
[]
[{"$f":"Prépa!C23","v":13},{"$f":"Prépa!D23","v":"ROYAN 2"},null,null,"Rang ",{"$f":"ABCDEF!$Z$23","v":14},null,"TOTAL",{"$f":"IF(OR(E124=\"FOR\",I124=\"FOR\"),\"FOR\",IF(OR(ISTEXT(E124),ISTEXT(I124)),\"DIS\",(E124)+(I124)))","v":94}]
[null,"A",14,"THOMAS  P.",26,"A",{"$nulls":4},{"$f":"IF(E118=\"For\",10,IF(ISTEXT(E118),1,0))","v":0},{"$f":"IF(OR(ISNUMBER(E118),ISBLANK(E118)),E118,0)","v":26},{"$f":"MIN(L118:L123)","v":9},{"$f":"IF(I118=\"For\",10,IF(ISTEXT(I118),1,0))","v":0},{"$f":"IF(OR(ISNUMBER(I118),ISBLANK(I118)),I118,0)","v":0},{"$f":"MIN(O118:O123)","v":0}]
[null,"B",14,"BOURNIQUE  J.P.",23,"B",{"$nulls":4},0,23,{"$f":"MAX(L118:L123)","v":26},0,0,{"$f":"MAX(O118:O123)","v":0}]
[null,"C",16,"FERNANDEZ  P.",19,"C",{"$nulls":4},0,19,{"$f":"SMALL(E118:E123,2)","v":12},0,0,{"$f":"LARGE(I118:I123,2)","v":{"$error":"#NUM!"}}]
[null,"D",19,"SEULIN  D.",14,"D",{"$nulls":4},0,14,{"$f":"LARGE(E118:E123,3)","v":19},0,0,{"$f":"LARGE(I118:I123,3)","v":{"$error":"#NUM!"}}]
[null,"E",20,"FLORENTIN  T.",12,"E",{"$nulls":4},0,12,{"$f":"LARGE(E118:E123,4)","v":14},0,0,{"$f":"LARGE(I118:I123,4)","v":{"$error":"#NUM!"}}]
[null,"F",36,"LEWANDOWSKI  N.",9,"F",{"$nulls":4},0,9,{"$f":"LARGE(E118:E123,5)","v":12},0,0,{"$f":"LARGE(I118:I123,5)","v":{"$error":"#NUM!"}}]
[null,null,null,"5 meilleures 1er JOUR ",{"$f":"IF(K124>6,\"FOR\",IF(K124>1,\"DIS\",IF(COUNTBLANK(E118:E123)>0,L124,L124-M118)))","v":94},null,null,"5 meilleures 2ème JOUR ",{"$f":"IF(N124>6,\"FOR\",IF(N124>1,\"DIS\",IF(COUNTBLANK(I118:I123)>0,O124,O124-P118)))","v":0},null,{"$f":"SUM(K118:K123)","v":0},{"$f":"SUM(L118:L123)","v":103},null,{"$f":"SUM(N118:N123)","v":0},{"$f":"SUM(O118:O123)","v":0}]
[]
[{"$f":"Prépa!C24","v":14},{"$f":"Prépa!D24","v":"ROYAN 3"},null,null,"Rang ",{"$f":"ABCDEF!$Z$24","v":15},null,"TOTAL",{"$f":"IF(OR(E133=\"FOR\",I133=\"FOR\"),\"FOR\",IF(OR(ISTEXT(E133),ISTEXT(I133)),\"DIS\",(E133)+(I133)))","v":163}]
[null,"A",14,"GARCIA OLMO  Margot",22,"A",14,"HELIAS  R.",20,null,{"$f":"IF(E127=\"For\",10,IF(ISTEXT(E127),1,0))","v":0},{"$f":"IF(OR(ISNUMBER(E127),ISBLANK(E127)),E127,0)","v":22},{"$f":"MIN(L127:L132)","v":10},{"$f":"IF(I127=\"For\",10,IF(ISTEXT(I127),1,0))","v":0},{"$f":"IF(OR(ISNUMBER(I127),ISBLANK(I127)),I127,0)","v":20},{"$f":"MIN(O127:O132)","v":4}]
[null,"B",15,"GARCIA OLMO  Martin",19,"B",20,"PILLET  C.",7,null,0,19,{"$f":"MAX(L127:L132)","v":22},0,7,{"$f":"MAX(O127:O132)","v":22}]
[null,"C",19,"COLIN  M.",14,"C",19,"COLIN  M",14,null,0,14,{"$f":"SMALL(E127:E132,2)","v":12},0,14,{"$f":"LARGE(I127:I132,2)","v":20}]
[null,"D",18,"ERARD  Y.",12,"D",14,"GARCIA OLMO   Margot.",22,null,0,12,{"$f":"LARGE(E127:E132,3)","v":18},0,22,{"$f":"LARGE(I127:I132,3)","v":15}]
[null,"E",28,"GUILLET  C.",18,"E",16,"GARCIA OLMO   Martin",15,null,0,18,{"$f":"LARGE(E127:E132,4)","v":14},0,15,{"$f":"LARGE(I127:I132,4)","v":14}]
[null,"F",35,"POTTIER  C.",10,"F",33,"POTTIER   C.",4,null,0,10,{"$f":"LARGE(E127:E132,5)","v":12},0,4,{"$f":"LARGE(I127:I132,5)","v":7}]
[null,null,null,"5 meilleures 1er JOUR ",{"$f":"IF(K133>6,\"FOR\",IF(K133>1,\"DIS\",IF(COUNTBLANK(E127:E132)>0,L133,L133-M127)))","v":85},null,null,"5 meilleures 2ème JOUR ",{"$f":"IF(N133>6,\"FOR\",IF(N133>1,\"DIS\",IF(COUNTBLANK(I127:I132)>0,O133,O133-P127)))","v":78},null,{"$f":"SUM(K127:K132)","v":0},{"$f":"SUM(L127:L132)","v":95},null,{"$f":"SUM(N127:N132)","v":0},{"$f":"SUM(O127:O132)","v":82}]
[]
[{"$f":"Prépa!C25","v":15},{"$f":"Prépa!D25","v":"SAINTONGE 1"},null,null,"Rang ",{"$f":"ABCDEF!$Z$25","v":16},null,"TOTAL",{"$f":"IF(OR(E142=\"FOR\",I142=\"FOR\"),\"FOR\",IF(OR(ISTEXT(E142),ISTEXT(I142)),\"DIS\",(E142)+(I142)))","v":162}]
[null,"A",15,"WESTCOMBES  R.",14,"A",15,"GOUBARD   G.",22,null,{"$f":"IF(E136=\"For\",10,IF(ISTEXT(E136),1,0))","v":0},{"$f":"IF(OR(ISNUMBER(E136),ISBLANK(E136)),E136,0)","v":14},{"$f":"MIN(L136:L141)","v":6},{"$f":"IF(I136=\"For\",10,IF(ISTEXT(I136),1,0))","v":0},{"$f":"IF(OR(ISNUMBER(I136),ISBLANK(I136)),I136,0)","v":22},{"$f":"MIN(O136:O141)","v":6}]
[null,"B",15,"BELLVERT  P.",14,"B",15,"BERRONEAU  Ch.",18,null,0,14,{"$f":"MAX(L136:L141)","v":18},0,18,{"$f":"MAX(O136:O141)","v":22}]
[null,"C",17,"GOUBARD  G.",18,"C",17,"GOYON   P.",21,null,0,18,{"$f":"SMALL(E136:E141,2)","v":9},0,21,{"$f":"LARGE(I136:I141,2)","v":21}]
[null,"D",18,"LABROUSSE  P.",6,"D",14,"LEMARCHAND  M.",19,null,0,6,{"$f":"LARGE(E136:E141,3)","v":14},0,19,{"$f":"LARGE(I136:I141,3)","v":19}]
[null,"E",21,"LEMARCHAND  C.",10,"E",20,"ROBERT  J.",17,null,0,10,{"$f":"LARGE(E136:E141,4)","v":10},0,17,{"$f":"LARGE(I136:I141,4)","v":18}]
[null,"F",29,"AUBRY CHOLLOT",9,"F",30,"CASTILLON  C.",6,null,0,9,{"$f":"LARGE(E136:E141,5)","v":9},0,6,{"$f":"LARGE(I136:I141,5)","v":17}]
[null,null,null,"5 meilleures 1er JOUR ",{"$f":"IF(K142>6,\"FOR\",IF(K142>1,\"DIS\",IF(COUNTBLANK(E136:E141)>0,L142,L142-M136)))","v":65},null,null,"5 meilleures 2ème JOUR ",{"$f":"IF(N142>6,\"FOR\",IF(N142>1,\"DIS\",IF(COUNTBLANK(I136:I141)>0,O142,O142-P136)))","v":97},null,{"$f":"SUM(K136:K141)","v":0},{"$f":"SUM(L136:L141)","v":71},null,{"$f":"SUM(N136:N141)","v":0},{"$f":"SUM(O136:O141)","v":103}]
[]
[{"$f":"Prépa!C26","v":16},{"$f":"Prépa!D26","v":"SAINTONGE 2"},null,null,"Rang ",{"$f":"ABCDEF!$Z$26","v":17},null,"TOTAL",{"$f":"IF(OR(E151=\"FOR\",I151=\"FOR\"),\"FOR\",IF(OR(ISTEXT(E151),ISTEXT(I151)),\"DIS\",(E151)+(I151)))","v":151}]
[null,"A",18,"RAOUL  J.",14,"A",18,"RAOUL  J.",11,null,{"$f":"IF(E145=\"For\",10,IF(ISTEXT(E145),1,0))","v":0},{"$f":"IF(OR(ISNUMBER(E145),ISBLANK(E145)),E145,0)","v":14},{"$f":"MIN(L145:L150)","v":4},{"$f":"IF(I145=\"For\",10,IF(ISTEXT(I145),1,0))","v":0},{"$f":"IF(OR(ISNUMBER(I145),ISBLANK(I145)),I145,0)","v":11},{"$f":"MIN(O145:O150)","v":11}]
[null,"B",27,"HILL  P.",4,"B",32,"HEMERY  L.",11,null,0,4,{"$f":"MAX(L145:L150)","v":17},0,11,{"$f":"MAX(O145:O150)","v":20}]
[null,"C",22,"DESMAREST  J.",7,"C",18,"ROUSSEAU  J.J.",19,null,0,7,{"$f":"SMALL(E145:E150,2)","v":7},0,19,{"$f":"LARGE(I145:I150,2)","v":19}]
[null,"D",16,"LEMARCHAND  M..",17,"D",18,"SEGUY  Ch.",18,null,0,17,{"$f":"LARGE(E145:E150,3)","v":14},0,18,{"$f":"LARGE(I145:I150,3)","v":19}]
[null,"E",15,"TROUILLON FARET  M.",14,"E",13,"GOMBEAUD  J.",20,null,0,14,{"$f":"LARGE(E145:E150,4)","v":12},0,20,{"$f":"LARGE(I145:I150,4)","v":18}]
[null,"F",17,"AUBRY  G.",12,"F",13,"BELLVERT  P.",19,null,0,12,{"$f":"LARGE(E145:E150,5)","v":7},0,19,{"$f":"LARGE(I145:I150,5)","v":11}]
[null,null,null,"5 meilleures 1er JOUR ",{"$f":"IF(K151>6,\"FOR\",IF(K151>1,\"DIS\",IF(COUNTBLANK(E145:E150)>0,L151,L151-M145)))","v":64},null,null,"5 meilleures 2ème JOUR ",{"$f":"IF(N151>6,\"FOR\",IF(N151>1,\"DIS\",IF(COUNTBLANK(I145:I150)>0,O151,O151-P145)))","v":87},null,{"$f":"SUM(K145:K150)","v":0},{"$f":"SUM(L145:L150)","v":68},null,{"$f":"SUM(N145:N150)","v":0},{"$f":"SUM(O145:O150)","v":98}]
[]
[{"$f":"Prépa!C27","v":17},{"$f":"Prépa!D27","v":"LA ROCHELLE 1"},null,null,"Rang ",{"$f":"ABCDEF!$Z$27","v":18},null,"TOTAL",{"$f":"IF(OR(E160=\"FOR\",I160=\"FOR\"),\"FOR\",IF(OR(ISTEXT(E160),ISTEXT(I160)),\"DIS\",(E160)+(I160)))","v":153}]
[null,"A",19,"MINIER  A.",16,"A",14,"CASANAVE   J.P.",15,null,{"$f":"IF(E154=\"For\",10,IF(ISTEXT(E154),1,0))","v":0},{"$f":"IF(OR(ISNUMBER(E154),ISBLANK(E154)),E154,0)","v":16},{"$f":"MIN(L154:L159)","v":1},{"$f":"IF(I154=\"For\",10,IF(ISTEXT(I154),1,0))","v":0},{"$f":"IF(OR(ISNUMBER(I154),ISBLANK(I154)),I154,0)","v":15},{"$f":"MIN(O154:O159)","v":8}]
[null,"B",15,"VACLE  L.",19,"B",17,"SZKALANA  F.",14,null,0,19,{"$f":"MAX(L154:L159)","v":19},0,14,{"$f":"MAX(O154:O159)","v":16}]
[null,"C",31,"AYRAULT  D.",1,"C",24,"MICHAUD   K.",16,null,0,1,{"$f":"SMALL(E154:E159,2)","v":12},0,16,{"$f":"LARGE(I154:I159,2)","v":15}]
[null,"D",16,"REY  M.",17,"D",28,"ROY  CONTANCIN  M.P.",13,null,0,17,{"$f":"LARGE(E154:E159,3)","v":17},0,13,{"$f":"LARGE(I154:I159,3)","v":14}]
[null,"E",14,"MERCIER J.F.",19,"E",14,"MERCIER   J.F.",12,null,0,19,{"$f":"LARGE(E154:E159,4)","v":16},0,12,{"$f":"LARGE(I154:I159,4)","v":13}]
[null,"F",17,"SARIO  A.",12,"F",20,"REY  J.",8,null,0,12,{"$f":"LARGE(E154:E159,5)","v":12},0,8,{"$f":"LARGE(I154:I159,5)","v":12}]
[null,null,null,"5 meilleures 1er JOUR ",{"$f":"IF(K160>6,\"FOR\",IF(K160>1,\"DIS\",IF(COUNTBLANK(E154:E159)>0,L160,L160-M154)))","v":83},null,null,"5 meilleures 2ème JOUR ",{"$f":"IF(N160>6,\"FOR\",IF(N160>1,\"DIS\",IF(COUNTBLANK(I154:I159)>0,O160,O160-P154)))","v":70},null,{"$f":"SUM(K154:K159)","v":0},{"$f":"SUM(L154:L159)","v":84},null,{"$f":"SUM(N154:N159)","v":0},{"$f":"SUM(O154:O159)","v":78}]
[]
[{"$f":"Prépa!C28","v":18},{"$f":"Prépa!D28","v":"LA ROCHELLE 2"},null,null,"Rang ",{"$f":"ABCDEF!$Z$28","v":19},null,"TOTAL",{"$f":"IF(OR(E169=\"FOR\",I169=\"FOR\"),\"FOR\",IF(OR(ISTEXT(E169),ISTEXT(I169)),\"DIS\",(E169)+(I169)))","v":133}]
[null,"A",17,"HENRARD  X",8,"A",33,"PERCHERON  J.C.",4,null,{"$f":"IF(E163=\"For\",10,IF(ISTEXT(E163),1,0))","v":0},{"$f":"IF(OR(ISNUMBER(E163),ISBLANK(E163)),E163,0)","v":8},{"$f":"MIN(L163:L168)","v":6},{"$f":"IF(I163=\"For\",10,IF(ISTEXT(I163),1,0))","v":0},{"$f":"IF(OR(ISNUMBER(I163),ISBLANK(I163)),I163,0)","v":4},{"$f":"MIN(O163:O168)","v":4}]
[null,"B",15,"CASANAVE  J.P.",22,"B",21,"BLU  O.",8,null,0,22,{"$f":"MAX(L163:L168)","v":22},0,8,{"$f":"MAX(O163:O168)","v":18}]
[null,"C",18,"DENIS  C.",6,"C",15,"REY  M.F.",16,null,0,6,{"$f":"SMALL(E163:E168,2)","v":8},0,16,{"$f":"LARGE(I163:I168,2)","v":18}]
[null,"D",21,"DAUCHEZ  J.M.",10,"D",19,"TRAMICHECK  H.",18,null,0,10,{"$f":"LARGE(E163:E168,3)","v":10},0,18,{"$f":"LARGE(I163:I168,3)","v":16}]
[null,"E",22,"SKORA  M.C.",13,"E",17,"DESGARCEAUX   V.",10,null,0,13,{"$f":"LARGE(E163:E168,4)","v":10},0,10,{"$f":"LARGE(I163:I168,4)","v":10}]
[null,"F",19,"BLU  O.",10,"F",14,"BOMPOINT   D.",18,null,0,10,{"$f":"LARGE(E163:E168,5)","v":8},0,18,{"$f":"LARGE(I163:I168,5)","v":8}]
[null,null,null,"5 meilleures 1er JOUR ",{"$f":"IF(K169>6,\"FOR\",IF(K169>1,\"DIS\",IF(COUNTBLANK(E163:E168)>0,L169,L169-M163)))","v":63},null,null,"5 meilleures 2ème JOUR ",{"$f":"IF(N169>6,\"FOR\",IF(N169>1,\"DIS\",IF(COUNTBLANK(I163:I168)>0,O169,O169-P163)))","v":70},null,{"$f":"SUM(K163:K168)","v":0},{"$f":"SUM(L163:L168)","v":69},null,{"$f":"SUM(N163:N168)","v":0},{"$f":"SUM(O163:O168)","v":74}]
[]
[{"$f":"Prépa!C29","v":19},{"$f":"Prépa!D29","v":"LA ROCHELLE 3"},null,null,"Rang ",{"$f":"ABCDEF!$Z$29","v":20},null,"TOTAL",{"$f":"IF(OR(E178=\"FOR\",I178=\"FOR\"),\"FOR\",IF(OR(ISTEXT(E178),ISTEXT(I178)),\"DIS\",(E178)+(I178)))","v":55}]
[null,"A",13,"GRANDON  J.C.",16,"A",{"$nulls":4},{"$f":"IF(E172=\"For\",10,IF(ISTEXT(E172),1,0))","v":0},{"$f":"IF(OR(ISNUMBER(E172),ISBLANK(E172)),E172,0)","v":16},{"$f":"MIN(L172:L177)","v":4},{"$f":"IF(I172=\"For\",10,IF(ISTEXT(I172),1,0))","v":0},{"$f":"IF(OR(ISNUMBER(I172),ISBLANK(I172)),I172,0)","v":0},{"$f":"MIN(O172:O177)","v":0}]
[null,"B",18,"SZKALANA  F.",13,"B",{"$nulls":4},0,13,{"$f":"MAX(L172:L177)","v":16},0,0,{"$f":"MAX(O172:O177)","v":0}]
[null,"C",19,"TRAMICHECK  H.",10,"C",{"$nulls":4},0,10,{"$f":"SMALL(E172:E177,2)","v":4},0,0,{"$f":"LARGE(I172:I177,2)","v":{"$error":"#NUM!"}}]
[null,"D",16,"LACOUTURE  F.",12,"D",{"$nulls":4},0,12,{"$f":"LARGE(E172:E177,3)","v":12},0,0,{"$f":"LARGE(I172:I177,3)","v":{"$error":"#NUM!"}}]
[null,"E",19,"REY  J.",4,"E",{"$nulls":4},0,4,{"$f":"LARGE(E172:E177,4)","v":10},0,0,{"$f":"LARGE(I172:I177,4)","v":{"$error":"#NUM!"}}]
[null,"F",27,"ROY CONTANCIN  M. P.",4,"F",{"$nulls":4},0,4,{"$f":"LARGE(E172:E177,5)","v":4},0,0,{"$f":"LARGE(I172:I177,5)","v":{"$error":"#NUM!"}}]
[null,null,null,"5 meilleures 1er JOUR ",{"$f":"IF(K178>6,\"FOR\",IF(K178>1,\"DIS\",IF(COUNTBLANK(E172:E177)>0,L178,L178-M172)))","v":55},null,null,"5 meilleures 2ème JOUR ",{"$f":"IF(N178>6,\"FOR\",IF(N178>1,\"DIS\",IF(COUNTBLANK(I172:I177)>0,O178,O178-P172)))","v":0},null,{"$f":"SUM(K172:K177)","v":0},{"$f":"SUM(L172:L177)","v":59},null,{"$f":"SUM(N172:N177)","v":0},{"$f":"SUM(O172:O177)","v":0}]
[]
[{"$f":"Prépa!C30","v":20},{"$f":"Prépa!D30","v":"ROCHEFORT 1"},null,null,"Rang ",{"$f":"ABCDEF!$Z$30","v":21},null,"TOTAL",{"$f":"IF(OR(E187=\"FOR\",I187=\"FOR\"),\"FOR\",IF(OR(ISTEXT(E187),ISTEXT(I187)),\"DIS\",(E187)+(I187)))","v":155}]
[null,"A",25,"TERMOTE  T.",15,null,17,"BOULON  S.",14,null,{"$f":"IF(E181=\"For\",10,IF(ISTEXT(E181),1,0))","v":0},{"$f":"IF(OR(ISNUMBER(E181),ISBLANK(E181)),E181,0)","v":15},{"$f":"MIN(L181:L186)","v":8},{"$f":"IF(I181=\"For\",10,IF(ISTEXT(I181),1,0))","v":0},{"$f":"IF(OR(ISNUMBER(I181),ISBLANK(I181)),I181,0)","v":14},{"$f":"MIN(O181:O186)","v":4}]
[null,"B",15,"ROIDI  M.",19,null,20,"DAGAND  F.",12,null,0,19,{"$f":"MAX(L181:L186)","v":19},0,12,{"$f":"MAX(O181:O186)","v":21}]
[null,"C",19,"GALINET  J.F.",17,null,27,"FOGLIETTI  I.",4,null,0,17,{"$f":"SMALL(E181:E186,2)","v":14},0,4,{"$f":"LARGE(I181:I186,2)","v":15}]
[null,"D",22,"VERGNE  G.",8,null,18,"BRAGHIERI  C.",15,null,0,8,{"$f":"LARGE(E181:E186,3)","v":15},0,15,{"$f":"LARGE(I181:I186,3)","v":14}]
[null,"E",16,"HILDENBRAND  J.",15,null,25,"MAURISSAN  P.L.",13,null,0,15,{"$f":"LARGE(E181:E186,4)","v":15},0,13,{"$f":"LARGE(I181:I186,4)","v":13}]
[null,"F",16,"LEPELLETIER  T.",14,null,14,"GRELLIER  J",21,null,0,14,{"$f":"LARGE(E181:E186,5)","v":14},0,21,{"$f":"LARGE(I181:I186,5)","v":12}]
[null,null,null,"5 meilleures 1er JOUR ",{"$f":"IF(K187>6,\"FOR\",IF(K187>1,\"DIS\",IF(COUNTBLANK(E181:E186)>0,L187,L187-M181)))","v":80},null,null,"5 meilleures 2ème JOUR ",{"$f":"IF(N187>6,\"FOR\",IF(N187>1,\"DIS\",IF(COUNTBLANK(I181:I186)>0,O187,O187-P181)))","v":75},null,{"$f":"SUM(K181:K186)","v":0},{"$f":"SUM(L181:L186)","v":88},null,{"$f":"SUM(N181:N186)","v":0},{"$f":"SUM(O181:O186)","v":79}]
[]
[{"$f":"Prépa!C31","v":21},{"$f":"Prépa!D31","v":"ROCHEFORT 2"},null,null,"Rang ",{"$f":"ABCDEF!$Z$31","v":8},null,"TOTAL",{"$f":"IF(OR(E196=\"FOR\",I196=\"FOR\"),\"FOR\",IF(OR(ISTEXT(E196),ISTEXT(I196)),\"DIS\",(E196)+(I196)))","v":164}]
[null,"A",17,"MAURISSAN  P.T.",18,"A",13,"BALHADERE  J.",13,null,{"$f":"IF(E190=\"For\",10,IF(ISTEXT(E190),1,0))","v":0},{"$f":"IF(OR(ISNUMBER(E190),ISBLANK(E190)),E190,0)","v":18},{"$f":"MIN(L190:L195)","v":0},{"$f":"IF(I190=\"For\",10,IF(ISTEXT(I190),1,0))","v":0},{"$f":"IF(OR(ISNUMBER(I190),ISBLANK(I190)),I190,0)","v":13},{"$f":"MIN(O190:O195)","v":9}]
[null,"B",17,"LEBUFFE  J.",15,"B",22,"GOBATTO  M.",9,null,0,15,{"$f":"MAX(L190:L195)","v":22},0,9,{"$f":"MAX(O190:O195)","v":20}]
[null,"C",15,"GALINET  J.",13,"C",15,"VERGNE  G.",17,null,0,13,{"$f":"SMALL(E190:E195,2)","v":13},0,17,{"$f":"LARGE(I190:I195,2)","v":17}]
[null,"D",15,"GRELLIER J.",22,"D",15,"TERMOTE  T.",20,null,0,22,{"$f":"LARGE(E190:E195,3)","v":15},0,20,{"$f":"LARGE(I190:I195,3)","v":17}]
[null,"E",20,"BRAGHIERI  C.",13,"E",18,"GALINET  J.F.",17,null,0,13,{"$f":"LARGE(E190:E195,4)","v":13},0,17,{"$f":"LARGE(I190:I195,4)","v":16}]
[null,"F",31,"DUREY  S.",0,"F",28,"LABBE  L.",16,null,0,0,{"$f":"LARGE(E190:E195,5)","v":13},0,16,{"$f":"LARGE(I190:I195,5)","v":13}]
[null,null,null,"5 meilleures 1er JOUR ",{"$f":"IF(K196>6,\"FOR\",IF(K196>1,\"DIS\",IF(COUNTBLANK(E190:E195)>0,L196,L196-M190)))","v":81},null,null,"5 meilleures 2ème JOUR ",{"$f":"IF(N196>6,\"FOR\",IF(N196>1,\"DIS\",IF(COUNTBLANK(I190:I195)>0,O196,O196-P190)))","v":83},null,{"$f":"SUM(K190:K195)","v":0},{"$f":"SUM(L190:L195)","v":81},null,{"$f":"SUM(N190:N195)","v":0},{"$f":"SUM(O190:O195)","v":92}]
[]
[{"$f":"Prépa!C32","v":22},{"$f":"Prépa!D32","v":"LA VALLADE 1"},null,null,"Rang ",{"$f":"ABCDEF!$Z$32","v":22},null,"TOTAL",{"$f":"IF(OR(E205=\"FOR\",I205=\"FOR\"),\"FOR\",IF(OR(ISTEXT(E205),ISTEXT(I205)),\"DIS\",(E205)+(I205)))","v":67}]
[null,"A",null,null,null,"A",25,"CHAURIS   B",15,null,{"$f":"IF(E199=\"For\",10,IF(ISTEXT(E199),1,0))","v":0},{"$f":"IF(OR(ISNUMBER(E199),ISBLANK(E199)),E199,0)","v":0},{"$f":"MIN(L199:L204)","v":0},{"$f":"IF(I199=\"For\",10,IF(ISTEXT(I199),1,0))","v":0},{"$f":"IF(OR(ISNUMBER(I199),ISBLANK(I199)),I199,0)","v":15},{"$f":"MIN(O199:O204)","v":7}]
[null,"B",null,null,null,"B",18,"DRAPIE  L.",7,null,0,0,{"$f":"MAX(L199:L204)","v":0},0,7,{"$f":"MAX(O199:O204)","v":16}]
[null,"C",null,null,null,"C",24,"CHRYSOSTOME  T.",8,null,0,0,{"$f":"SMALL(E199:E204,2)","v":{"$error":"#NUM!"}},0,8,{"$f":"LARGE(I199:I204,2)","v":15}]
[null,"D",null,null,null,"D",18,"LANNELONGUE  J.Ph.",14,null,0,0,{"$f":"LARGE(E199:E204,3)","v":{"$error":"#NUM!"}},0,14,{"$f":"LARGE(I199:I204,3)","v":14}]
[null,"E",null,null,null,"E",23,"CAGIGAL DEL SOLAR  S.",14,null,0,0,{"$f":"LARGE(E199:E204,4)","v":{"$error":"#NUM!"}},0,14,{"$f":"LARGE(I199:I204,4)","v":14}]
[null,"F",null,null,null,"F",13,"FAUP  PELOT  Ph.",16,null,0,0,{"$f":"LARGE(E199:E204,5)","v":{"$error":"#NUM!"}},0,16,{"$f":"LARGE(I199:I204,5)","v":8}]
[null,null,null,"5 meilleures 1er JOUR ",{"$f":"IF(K205>6,\"FOR\",IF(K205>1,\"DIS\",IF(COUNTBLANK(E199:E204)>0,L205,L205-M199)))","v":0},null,null,"5 meilleures 2ème JOUR ",{"$f":"IF(N205>6,\"FOR\",IF(N205>1,\"DIS\",IF(COUNTBLANK(I199:I204)>0,O205,O205-P199)))","v":67},null,{"$f":"SUM(K199:K204)","v":0},{"$f":"SUM(L199:L204)","v":0},null,{"$f":"SUM(N199:N204)","v":0},{"$f":"SUM(O199:O204)","v":74}]
[]
[{"$f":"Prépa!C33","v":23},{"$f":"Prépa!D33","v":"SAINTONGE 3"},null,null,"Rang ",{"$f":"ABCDEF!$Z$33","v":23},null,"TOTAL",{"$f":"IF(OR(E214=\"FOR\",I214=\"FOR\"),\"FOR\",IF(OR(ISTEXT(E214),ISTEXT(I214)),\"DIS\",(E214)+(I214)))","v":66}]
[null,"A",null,null,null,"A",25,"HILL  P.",9,null,{"$f":"IF(E208=\"For\",10,IF(ISTEXT(E208),1,0))","v":0},{"$f":"IF(OR(ISNUMBER(E208),ISBLANK(E208)),E208,0)","v":0},{"$f":"MIN(L208:L213)","v":0},{"$f":"IF(I208=\"For\",10,IF(ISTEXT(I208),1,0))","v":0},{"$f":"IF(OR(ISNUMBER(I208),ISBLANK(I208)),I208,0)","v":9},{"$f":"MIN(O208:O213)","v":9}]
[null,"B",null,null,null,"B",25,"MATHIEU  A.",13,null,0,0,{"$f":"MAX(L208:L213)","v":0},0,13,{"$f":"MAX(O208:O213)","v":20}]
[null,"C",null,null,null,"C",23,"MERCIER  C.",12,null,0,0,{"$f":"SMALL(E208:E213,2)","v":{"$error":"#NUM!"}},0,12,{"$f":"LARGE(I208:I213,2)","v":13}]
[null,"D",null,null,null,"D",22,"LEMARCHAND  C.",11,null,0,0,{"$f":"LARGE(E208:E213,3)","v":{"$error":"#NUM!"}},0,11,{"$f":"LARGE(I208:I213,3)","v":12}]
[null,"E",null,null,null,"E",21,"SEGUY  A.",20,null,0,0,{"$f":"LARGE(E208:E213,4)","v":{"$error":"#NUM!"}},0,20,{"$f":"LARGE(I208:I213,4)","v":11}]
[null,"F",null,null,null,"F",24,"GUDIN CASTILLON  C.",10,null,0,0,{"$f":"LARGE(E208:E213,5)","v":{"$error":"#NUM!"}},0,10,{"$f":"LARGE(I208:I213,5)","v":10}]
[null,null,null,"5 meilleures 1er JOUR ",{"$f":"IF(K214>6,\"FOR\",IF(K214>1,\"DIS\",IF(COUNTBLANK(E208:E213)>0,L214,L214-M208)))","v":0},null,null,"5 meilleures 2ème JOUR ",{"$f":"IF(N214>6,\"FOR\",IF(N214>1,\"DIS\",IF(COUNTBLANK(I208:I213)>0,O214,O214-P208)))","v":66},null,{"$f":"SUM(K208:K213)","v":0},{"$f":"SUM(L208:L213)","v":0},null,{"$f":"SUM(N208:N213)","v":0},{"$f":"SUM(O208:O213)","v":75}]
[]
[{"$f":"Prépa!C34","v":24},{"$f":"Prépa!D34","v":0},null,null,"Rang ",{"$f":"ABCDEF!$Z$34","v":24},null,"TOTAL",{"$f":"IF(OR(E223=\"FOR\",I223=\"FOR\"),\"FOR\",IF(OR(ISTEXT(E223),ISTEXT(I223)),\"DIS\",(E223)+(I223)))","v":0}]
[null,"A",null,null,null,"A",{"$nulls":4},{"$f":"IF(E217=\"For\",10,IF(ISTEXT(E217),1,0))","v":0},{"$f":"IF(OR(ISNUMBER(E217),ISBLANK(E217)),E217,0)","v":0},{"$f":"MIN(L217:L222)","v":0},{"$f":"IF(I217=\"For\",10,IF(ISTEXT(I217),1,0))","v":0},{"$f":"IF(OR(ISNUMBER(I217),ISBLANK(I217)),I217,0)","v":0},{"$f":"MIN(O217:O222)","v":0}]
[null,"B",null,null,null,"B",{"$nulls":4},0,0,{"$f":"MAX(L217:L222)","v":0},0,0,{"$f":"MAX(O217:O222)","v":0}]
[null,"C",null,null,null,"C",{"$nulls":4},0,0,{"$f":"SMALL(E217:E222,2)","v":{"$error":"#NUM!"}},0,0,{"$f":"LARGE(I217:I222,2)","v":{"$error":"#NUM!"}}]
[null,"D",null,null,null,"D",{"$nulls":4},0,0,{"$f":"LARGE(E217:E222,3)","v":{"$error":"#NUM!"}},0,0,{"$f":"LARGE(I217:I222,3)","v":{"$error":"#NUM!"}}]
[null,"E",null,null,null,"E",{"$nulls":4},0,0,{"$f":"LARGE(E217:E222,4)","v":{"$error":"#NUM!"}},0,0,{"$f":"LARGE(I217:I222,4)","v":{"$error":"#NUM!"}}]
[null,"F",null,null,null,"F",{"$nulls":4},0,0,{"$f":"LARGE(E217:E222,5)","v":{"$error":"#NUM!"}},0,0,{"$f":"LARGE(I217:I222,5)","v":{"$error":"#NUM!"}}]
[null,null,null,"5 meilleures 1er JOUR ",{"$f":"IF(K223>6,\"FOR\",IF(K223>1,\"DIS\",IF(COUNTBLANK(E217:E222)>0,L223,L223-M217)))","v":0},null,null,"5 meilleures 2ème JOUR ",{"$f":"IF(N223>6,\"FOR\",IF(N223>1,\"DIS\",IF(COUNTBLANK(I217:I222)>0,O223,O223-P217)))","v":0},null,{"$f":"SUM(K217:K222)","v":0},{"$f":"SUM(L217:L222)","v":0},null,{"$f":"SUM(N217:N222)","v":0},{"$f":"SUM(O217:O222)","v":0}]

{"sheet":"ABCDEF","index":3,"n_rows":34,"n_cols":44,"rows_kept":34,"cut":false,"hidden":false,"merged":[[9,39,9,42],[9,17,9,20],[0,2,0,14],[4,3,4,14],[2,2,2,14],[6,2,6,14]]}
[null,null,{"$f":"Prépa!D2","v":"championnat départemental par équipes 2011"},{"$nulls":22},{"$f":"34-COUNT(B11:B34)","v":33}]
[]
[null,null,{"$f":"Prépa!D4","v":"1er Tour Royan 10 avril 2011"}]
[]
[null,null,null,{"$f":"Prépa!D6","v":"2ème Tour Saintes 9 octobre 2011"}]
[]
[null,null,"Classement"]
[]
[]
[null,null,"A","B","C","D","E","F","A","B","C","D","E","F","Tour 1","Tour 2","Total","Départages",{"$nulls":6},"A","B","C","D","E","F","A","B","C","D","E","F","Tour 3","Tour 4","Total","Départages"]
[1,{"$f":"Res!B9","v":"LA JARNE 1"},{"$f":"Res!E10","v":14},{"$f":"Res!E11","v":14},{"$f":"Res!E12","v":14},{"$f":"Res!E13","v":24},{"$f":"Res!E14","v":18},{"$f":"Res!E15","v":20},{"$f":"Res!I10","v":23},{"$f":"Res!I11","v":9},{"$f":"Res!I12","v":19},{"$f":"Res!I13","v":13},{"$f":"Res!I14","v":21},{"$f":"Res!I15","v":24},{"$f":"Res!E16","v":90},{"$f":"Res!I16","v":100},{"$f":"IF(OR(O11=\"FOR\",P11=\"FOR\"),1,IF(OR(ISTEXT(O11),ISTEXT(P11)),2,(O11)+(P11)))","v":190},{"$f":"Res!$M$10+Res!$P$10","v":23},{"$f":"Res!$M$11+Res!$P$11","v":48},{"$f":"Res!$M$12+Res!$P$12","v":37},{"$f":"Res!$M$13+Res!$P$13","v":39},{"$f":"Res!$M$14+Res!$P$14","v":33},1,{"$f":"Res!X18","v":0},{"$f":"Res!AA19","v":0},1,"ROYAN 2",0,{"$f":"Res!AA14","v":0},{"$f":"Res!AA15","v":0},{"$f":"Res!AE10","v":0},{"$f":"Res!AE11","v":0},{"$f":"Res!AE12","v":0},{"$f":"Res!AE13","v":0},{"$f":"Res!AE14","v":0},{"$f":"Res!AE15","v":0},{"$f":"Res!AA16","v":0},{"$f":"Res!AE16","v":0},{"$f":"IF(OR(AK11=\"FOR\",AL11=\"FOR\"),1,IF(OR(ISTEXT(AK11),ISTEXT(AL11)),2,(AK11)+(AL11)))","v":0},{"$f":"Res!$M$10+Res!$P$10","v":23},{"$f":"Res!$M$11+Res!$P$11","v":48},{"$f":"Res!$M$12+Res!$P$12","v":37},{"$f":"Res!$M$13+Res!$P$13","v":39},{"$f":"Res!$M$14+Res!$P$14","v":33}]
[2,{"$f":"Res!B54","v":"MONTENDRE 1"},{"$f":"Res!E55","v":17},{"$f":"Res!E56","v":14},{"$f":"Res!E57","v":21},{"$f":"Res!E58","v":19},{"$f":"Res!E59","v":12},{"$f":"Res!E60","v":14},{"$f":"Res!I55","v":23},{"$f":"Res!I56","v":9},{"$f":"Res!I57","v":14},{"$f":"Res!I58","v":18},{"$f":"Res!I59","v":17},{"$f":"Res!I60","v":22},{"$f":"Res!E61","v":85},{"$f":"Res!I61","v":94},179,{"$f":"Res!M55+Res!P55","v":21},{"$f":"Res!M56+Res!P56","v":44},{"$f":"Res!M57+Res!P57","v":36},{"$f":"Res!M58+Res!P58","v":35},{"$f":"Res!$M$59+Res!$P$59","v":31},6,{"$f":"Res!X72","v":0},{"$f":"Res!AA73","v":0},2,"LA JARNE 1",0,{"$f":"Res!AA23","v":0},{"$f":"Res!AA24","v":0},{"$f":"Res!AE19","v":0},{"$f":"Res!AE20","v":0},{"$f":"Res!AE21","v":0},{"$f":"Res!AE22","v":0},{"$f":"Res!AE23","v":0},{"$f":"Res!AE24","v":0},{"$f":"Res!AA25","v":0},{"$f":"Res!AE25","v":0},0,{"$f":"Res!AI19+Res!AL19","v":0},{"$f":"Res!AI20+Res!AL20","v":0},{"$f":"Res!AI21+Res!AL21","v":0},{"$f":"Res!AI22+Res!AL22","v":0},{"$f":"Res!$M$23+Res!$P$23","v":27}]
[3,{"$f":"Res!B18","v":"LA JARNE 2"},{"$f":"Res!E19","v":11},{"$f":"Res!E20","v":19},{"$f":"Res!E21","v":6},{"$f":"Res!E22","v":5},{"$f":"Res!E23","v":11},{"$f":"Res!E24","v":18},{"$f":"Res!I19","v":25},{"$f":"Res!I20","v":24},{"$f":"Res!I21","v":16},{"$f":"Res!I22","v":18},{"$f":"Res!I23","v":9},{"$f":"Res!I24","v":16},{"$f":"Res!E25","v":65},{"$f":"Res!I25","v":99},164,{"$f":"Res!M19+Res!P19","v":14},{"$f":"Res!M20+Res!P20","v":44},{"$f":"Res!M21+Res!P21","v":30},{"$f":"Res!M22+Res!P22","v":29},{"$f":"Res!$M$23+Res!$P$23","v":27},2,{"$f":"Res!X45","v":0},{"$f":"Res!AA46","v":0},3,"MONTENDRE 1",0,{"$f":"Res!AA32","v":0},{"$f":"Res!AA33","v":0},{"$f":"Res!AE28","v":0},{"$f":"Res!AE29","v":0},{"$f":"Res!AE30","v":0},{"$f":"Res!AE31","v":0},{"$f":"Res!AE32","v":0},{"$f":"Res!AE33","v":0},{"$f":"Res!AA34","v":0},{"$f":"Res!AE34","v":0},0,{"$f":"Res!AI28+Res!AL28","v":0},{"$f":"Res!AI29+Res!AL29","v":0},{"$f":"Res!AI30+Res!AL30","v":0},{"$f":"Res!AI31+Res!AL31","v":0},{"$f":"Res!$M$32+Res!$P$32","v":23}]
[4,"ROCHEFORT 2",{"$f":"Res!E190","v":18},{"$f":"Res!E191","v":15},{"$f":"Res!E192","v":13},{"$f":"Res!E193","v":22},{"$f":"Res!E194","v":13},{"$f":"Res!E195","v":0},{"$f":"Res!I190","v":13},{"$f":"Res!I191","v":9},{"$f":"Res!I192","v":17},{"$f":"Res!I193","v":20},{"$f":"Res!I194","v":17},{"$f":"Res!I195","v":16},{"$f":"Res!E196","v":81},{"$f":"Res!I196","v":83},164,{"$f":"Res!M190+Res!P190","v":9},{"$f":"Res!M191+Res!P191","v":42},{"$f":"Res!M192+Res!P192","v":30},{"$f":"Res!M193+Res!P193","v":32},{"$f":"Res!M194+Res!P194","v":29},{"$f":"Res!M195+Res!P195","v":26},null,21,4,"ROYAN 3",0,{"$f":"Res!AA41","v":0},{"$f":"Res!AA42","v":0},{"$f":"Res!AE37","v":0},{"$f":"Res!AE38","v":0},{"$f":"Res!AE39","v":0},{"$f":"Res!AE40","v":0},{"$f":"Res!AE41","v":0},{"$f":"Res!AE42","v":0},{"$f":"Res!AA43","v":0},{"$f":"Res!AE43","v":0},0,{"$f":"Res!AI37+Res!AL37","v":0},{"$f":"Res!AI38+Res!AL38","v":0},{"$f":"Res!AI39+Res!AL39","v":0},{"$f":"Res!AI40+Res!AL40","v":0},{"$f":"Res!$M$41+Res!$P$41","v":{"$error":"#NUM!"}}]
[5,{"$f":"Res!B126","v":"ROYAN 3"},{"$f":"Res!E127","v":22},{"$f":"Res!E128","v":19},{"$f":"Res!E129","v":14},{"$f":"Res!E130","v":12},{"$f":"Res!E131","v":18},{"$f":"Res!E132","v":10},{"$f":"Res!I127","v":20},{"$f":"Res!I128","v":7},{"$f":"Res!I129","v":14},{"$f":"Res!I130","v":22},{"$f":"Res!I131","v":15},{"$f":"Res!I132","v":4},{"$f":"Res!E133","v":85},{"$f":"Res!I133","v":78},163,{"$f":"Res!M127+Res!P127","v":14},{"$f":"Res!M128+Res!P128","v":44},{"$f":"Res!M129+Res!P129","v":32},{"$f":"Res!M130+Res!P130","v":33},{"$f":"Res!$M$131+Res!$P$131","v":28},14,{"$f":"Res!X171","v":0},{"$f":"Res!AA172","v":0},5,"ROYAN 1",0,{"$f":"Res!AA50","v":0},{"$f":"Res!AA51","v":0},{"$f":"Res!AE46","v":0},{"$f":"Res!AE47","v":0},{"$f":"Res!AE48","v":0},{"$f":"Res!AE49","v":0},{"$f":"Res!AE50","v":0},{"$f":"Res!AE51","v":0},{"$f":"Res!AA52","v":0},{"$f":"Res!AE52","v":0},0,{"$f":"Res!AI46+Res!AL46","v":0},{"$f":"Res!AI47+Res!AL47","v":0},{"$f":"Res!AI48+Res!AL48","v":0},{"$f":"Res!AI49+Res!AL49","v":0},{"$f":"Res!$M$50+Res!$P$50","v":{"$error":"#NUM!"}}]
[6,{"$f":"Res!B135","v":"SAINTONGE 1"},{"$f":"Res!E136","v":14},{"$f":"Res!E137","v":14},{"$f":"Res!E138","v":18},{"$f":"Res!E139","v":6},{"$f":"Res!E140","v":10},{"$f":"Res!E141","v":9},{"$f":"Res!I136","v":22},{"$f":"Res!I137","v":18},{"$f":"Res!I138","v":21},{"$f":"Res!I139","v":19},{"$f":"Res!I140","v":17},{"$f":"Res!I141","v":6},{"$f":"Res!E142","v":65},{"$f":"Res!I142","v":97},162,{"$f":"Res!M136+Res!P136","v":12},{"$f":"Res!M137+Res!P137","v":40},{"$f":"Res!M138+Res!P138","v":30},{"$f":"Res!M139+Res!P139","v":33},{"$f":"Res!M140+Res!P140","v":28},15,{"$f":"Res!X117","v":0},{"$f":"Res!AA118","v":0},6,"LA ROCHELLE 1",0,{"$f":"Res!AA59","v":0},{"$f":"Res!AA60","v":0},{"$f":"Res!AE55","v":0},{"$f":"Res!AE56","v":0},{"$f":"Res!AE57","v":0},{"$f":"Res!AE58","v":0},{"$f":"Res!AE59","v":0},{"$f":"Res!AE60","v":0},{"$f":"Res!AA61","v":0},{"$f":"Res!AE61","v":0},0,{"$f":"Res!AI55+Res!AL55","v":0},{"$f":"Res!AI56+Res!AL56","v":0},{"$f":"Res!AI57+Res!AL57","v":0},{"$f":"Res!AI58+Res!AL58","v":0},{"$f":"Res!$M$59+Res!$P$59","v":31}]
[7,{"$f":"Res!B180","v":"ROCHEFORT 1"},{"$f":"Res!E181","v":15},{"$f":"Res!E182","v":19},{"$f":"Res!E183","v":17},{"$f":"Res!E184","v":8},{"$f":"Res!E185","v":15},{"$f":"Res!E186","v":14},{"$f":"Res!I181","v":14},{"$f":"Res!I182","v":12},{"$f":"Res!I183","v":4},{"$f":"Res!I184","v":15},{"$f":"Res!I185","v":13},{"$f":"Res!I186","v":21},{"$f":"Res!E187","v":80},{"$f":"Res!I187","v":75},155,{"$f":"Res!M181+Res!P181","v":12},{"$f":"Res!M182+Res!P182","v":40},{"$f":"Res!M183+Res!P183","v":29},{"$f":"Res!M184+Res!P184","v":29},{"$f":"Res!M185+Res!P185","v":28},20,{"$f":"Res!X180","v":0},{"$f":"Res!AA181","v":0},7,"OLERON   1",0,{"$f":"Res!AA68","v":0},{"$f":"Res!AA69","v":0},{"$f":"Res!AE64","v":0},{"$f":"Res!AE65","v":0},{"$f":"Res!AE66","v":0},{"$f":"Res!AE67","v":0},{"$f":"Res!AE68","v":0},{"$f":"Res!AE69","v":0},{"$f":"Res!AA70","v":0},{"$f":"Res!AE70","v":0},0,{"$f":"Res!AI64+Res!AL64","v":0},{"$f":"Res!AI65+Res!AL65","v":0},{"$f":"Res!AI66+Res!AL66","v":0},{"$f":"Res!AI67+Res!AL67","v":0},{"$f":"Res!$M$68+Res!$P$68","v":22}]
[8,{"$f":"Res!B153","v":"LA ROCHELLE 1"},{"$f":"Res!E154","v":16},{"$f":"Res!E155","v":19},{"$f":"Res!E156","v":1},{"$f":"Res!E157","v":17},{"$f":"Res!E158","v":19},{"$f":"Res!E159","v":12},{"$f":"Res!I154","v":15},{"$f":"Res!I155","v":14},{"$f":"Res!I156","v":16},{"$f":"Res!I157","v":13},{"$f":"Res!I158","v":12},{"$f":"Res!I159","v":8},{"$f":"Res!E160","v":83},{"$f":"Res!I160","v":70},153,{"$f":"Res!M154+Res!P154","v":9},{"$f":"Res!M155+Res!P155","v":35},{"$f":"Res!M156+Res!P156","v":27},{"$f":"Res!M157+Res!P157","v":31},{"$f":"Res!M158+Res!P158","v":29},17,{"$f":"Res!X153","v":0},{"$f":"Res!AA154","v":0},9,"ROCHEFORT 2",21,{"$f":"Res!AA77","v":0},{"$f":"Res!AA78","v":0},{"$f":"Res!AE73","v":0},{"$f":"Res!AE74","v":0},{"$f":"Res!AE75","v":0},{"$f":"Res!AE76","v":0},{"$f":"Res!AE77","v":0},{"$f":"Res!AE78","v":0},{"$f":"Res!AA79","v":0},{"$f":"Res!AE79","v":0},0,{"$f":"Res!AI73+Res!AL73","v":0},{"$f":"Res!AI74+Res!AL74","v":0},{"$f":"Res!AI75+Res!AL75","v":0},{"$f":"Res!AI76+Res!AL76","v":0},{"$f":"Res!$M$77+Res!$P$77","v":9}]
[9,{"$f":"Res!B144","v":"SAINTONGE 2"},{"$f":"Res!E145","v":14},{"$f":"Res!E146","v":4},{"$f":"Res!E147","v":7},{"$f":"Res!E148","v":17},{"$f":"Res!E149","v":14},{"$f":"Res!E150","v":12},{"$f":"Res!I145","v":11},{"$f":"Res!I146","v":11},{"$f":"Res!I147","v":19},{"$f":"Res!I148","v":18},{"$f":"Res!I149","v":20},{"$f":"Res!I150","v":19},{"$f":"Res!E151","v":64},{"$f":"Res!I151","v":87},151,{"$f":"Res!M145+Res!P145","v":15},{"$f":"Res!M146+Res!P146","v":37},{"$f":"Res!M147+Res!P147","v":26},{"$f":"Res!M148+Res!P148","v":33},{"$f":"Res!M149+Res!P149","v":30},16,{"$f":"Res!X108","v":0},{"$f":"Res!AA109","v":0},10,"ROCHEFORT 1",0,{"$f":"Res!AA86","v":0},{"$f":"Res!AA87","v":0},{"$f":"Res!AE82","v":0},{"$f":"Res!AE83","v":0},{"$f":"Res!AE84","v":0},{"$f":"Res!AE85","v":0},{"$f":"Res!AE86","v":0},{"$f":"Res!AE87","v":0},{"$f":"Res!AA88","v":0},{"$f":"Res!AE88","v":0},0,{"$f":"Res!AI82+Res!AL82","v":0},{"$f":"Res!AI83+Res!AL83","v":0},{"$f":"Res!AI84+Res!AL84","v":0},{"$f":"Res!AI85+Res!AL85","v":0},{"$f":"Res!$M$86+Res!$P$86","v":24}]
[10,{"$f":"Res!B81","v":"OLERON   1"},{"$f":"Res!E82","v":19},{"$f":"Res!E83","v":20},{"$f":"Res!E84","v":10},{"$f":"Res!E85","v":13},{"$f":"Res!E86","v":17},{"$f":"Res!E87","v":13},{"$f":"Res!I82","v":13},{"$f":"Res!I83","v":11},{"$f":"Res!I84","v":17},{"$f":"Res!I85","v":10},{"$f":"Res!I86","v":11},{"$f":"Res!I87","v":15},{"$f":"Res!E88","v":82},{"$f":"Res!I88","v":67},149,{"$f":"Res!M82+Res!P82","v":20},{"$f":"Res!M83+Res!P83","v":37},{"$f":"Res!M84+Res!P84","v":28},{"$f":"Res!M85+Res!P85","v":30},{"$f":"Res!$M$86+Res!$P$86","v":24},9,{"$f":"Res!X90","v":0},{"$f":"Res!AA91","v":0},11,"LA PALMYRE 1",0,{"$f":"Res!AA95","v":0},{"$f":"Res!AA96","v":0},{"$f":"Res!AE91","v":0},{"$f":"Res!AE92","v":0},{"$f":"Res!AE93","v":0},{"$f":"Res!AE94","v":0},{"$f":"Res!AE95","v":0},{"$f":"Res!AE96","v":0},{"$f":"Res!AA97","v":0},{"$f":"Res!AE97","v":0},0,{"$f":"Res!AI91+Res!AL91","v":0},{"$f":"Res!AI92+Res!AL92","v":0},{"$f":"Res!AI93+Res!AL93","v":0},{"$f":"Res!AI94+Res!AL94","v":0},{"$f":"Res!$M$95+Res!$P$95","v":24}]
[11,{"$f":"Res!B27","v":"LA PALMYRE 1"},{"$f":"Res!E28","v":17},{"$f":"Res!E29","v":21},{"$f":"Res!E30","v":12},{"$f":"Res!E31","v":8},{"$f":"Res!E32","v":12},{"$f":"Res!E33","v":9},{"$f":"Res!I28","v":21},{"$f":"Res!I29","v":7},{"$f":"Res!I30","v":16},{"$f":"Res!I31","v":21},{"$f":"Res!I32","v":7},{"$f":"Res!I33","v":11},{"$f":"Res!E34","v":71},{"$f":"Res!I34","v":76},147,{"$f":"Res!M28+Res!P28","v":15},{"$f":"Res!M29+Res!P29","v":42},{"$f":"Res!M30+Res!P30","v":30},{"$f":"Res!M31+Res!P31","v":28},{"$f":"Res!$M$32+Res!$P$32","v":23},3,{"$f":"Res!X54","v":0},{"$f":"Res!AA55","v":0},12,"OLERON 2",0,{"$f":"Res!AA104","v":0},{"$f":"Res!AA105","v":0},{"$f":"Res!AE100","v":0},{"$f":"Res!AE101","v":0},{"$f":"Res!AE102","v":0},{"$f":"Res!AE103","v":0},{"$f":"Res!AE104","v":0},{"$f":"Res!AE105","v":0},{"$f":"Res!AA106","v":0},{"$f":"Res!AE106","v":0},0,{"$f":"Res!AI100+Res!AL100","v":0},{"$f":"Res!AI101+Res!AL101","v":0},{"$f":"Res!AI102+Res!AL102","v":0},{"$f":"Res!AI103+Res!AL103","v":0},{"$f":"Res!$M$104+Res!$P$104","v":17}]
[12,{"$f":"Res!B90","v":"OLERON 2"},{"$f":"Res!E91","v":14},{"$f":"Res!E92","v":11},{"$f":"Res!E93","v":5},{"$f":"Res!E94","v":22},{"$f":"Res!E95","v":13},{"$f":"Res!E96","v":8},{"$f":"Res!I91","v":5},{"$f":"Res!I92","v":14},{"$f":"Res!I93","v":14},{"$f":"Res!I94","v":9},{"$f":"Res!I95","v":18},{"$f":"Res!I96","v":13},{"$f":"Res!E97","v":68},{"$f":"Res!I97","v":68},136,{"$f":"Res!M91+Res!P91","v":10},{"$f":"Res!M92+Res!P92","v":40},{"$f":"Res!M93+Res!P93","v":22},{"$f":"Res!M94+Res!P94","v":27},{"$f":"Res!$M$95+Res!$P$95","v":24},10,{"$f":"Res!X63","v":0},{"$f":"Res!AA64","v":0},13,"SAINTONGE 1",0,{"$f":"Res!AA113","v":0},{"$f":"Res!AA114","v":0},{"$f":"Res!AE109","v":0},{"$f":"Res!AE110","v":0},{"$f":"Res!AE111","v":0},{"$f":"Res!AE112","v":0},{"$f":"Res!AE113","v":0},{"$f":"Res!AE114","v":0},{"$f":"Res!AA115","v":0},{"$f":"Res!AE115","v":0},0,{"$f":"Res!AI109+Res!AL109","v":0},{"$f":"Res!AI110+Res!AL110","v":0},{"$f":"Res!AI111+Res!AL111","v":0},{"$f":"Res!AI112+Res!AL112","v":0},{"$f":"Res!$M$113+Res!$P$113","v":{"$error":"#NUM!"}}]
[13,{"$f":"Res!B162","v":"LA ROCHELLE 2"},{"$f":"Res!E163","v":8},{"$f":"Res!E164","v":22},{"$f":"Res!E165","v":6},{"$f":"Res!E166","v":10},{"$f":"Res!E167","v":13},{"$f":"Res!E168","v":10},{"$f":"Res!I163","v":4},{"$f":"Res!I164","v":8},{"$f":"Res!I165","v":16},{"$f":"Res!I166","v":18},{"$f":"Res!I167","v":10},{"$f":"Res!I168","v":18},{"$f":"Res!E169","v":63},{"$f":"Res!I169","v":70},133,{"$f":"Res!M163+Res!P163","v":10},{"$f":"Res!M164+Res!P164","v":40},{"$f":"Res!M165+Res!P165","v":26},{"$f":"Res!M166+Res!P166","v":26},{"$f":"Res!M167+Res!P167","v":20},18,{"$f":"Res!X9","v":0},{"$f":"Res!AA10","v":0},14,"LA JARNE 2",0,{"$f":"Res!AA122","v":0},{"$f":"Res!AA123","v":0},{"$f":"Res!AE118","v":0},{"$f":"Res!AE119","v":0},{"$f":"Res!AE120","v":0},{"$f":"Res!AE121","v":0},{"$f":"Res!AE122","v":0},{"$f":"Res!AE123","v":0},{"$f":"Res!AA124","v":0},{"$f":"Res!AE124","v":0},0,{"$f":"Res!AI118+Res!AL118","v":0},{"$f":"Res!AI119+Res!AL119","v":0},{"$f":"Res!AI120+Res!AL120","v":0},{"$f":"Res!AI121+Res!AL121","v":0},{"$f":"Res!$M$122+Res!$P$122","v":{"$error":"#NUM!"}}]
[14,{"$f":"Res!B63","v":"MONTENDRE 2"},{"$f":"Res!E64","v":15},{"$f":"Res!E65","v":8},{"$f":"Res!E66","v":10},{"$f":"Res!E67","v":8},{"$f":"Res!E68","v":12},{"$f":"Res!E69","v":7},{"$f":"Res!I64","v":21},{"$f":"Res!I65","v":14},{"$f":"Res!I66","v":18},{"$f":"Res!I67","v":6},{"$f":"Res!I68","v":11},{"$f":"Res!I69","v":14},{"$f":"Res!E70","v":53},{"$f":"Res!I70","v":78},131,{"$f":"Res!M64+Res!P64","v":13},{"$f":"Res!M65+Res!P65","v":36},{"$f":"Res!M66+Res!P66","v":26},{"$f":"Res!M67+Res!P67","v":24},{"$f":"Res!$M$68+Res!$P$68","v":22},7,{"$f":"Res!X81","v":0},{"$f":"Res!AA82","v":0},15,"SAINTONGE 2",0,{"$f":"Res!AA131","v":0},{"$f":"Res!AA132","v":0},{"$f":"Res!AE127","v":0},{"$f":"Res!AE128","v":0},{"$f":"Res!AE129","v":0},{"$f":"Res!AE130","v":0},{"$f":"Res!AE131","v":0},{"$f":"Res!AE132","v":0},{"$f":"Res!AA133","v":0},{"$f":"Res!AE133","v":0},0,{"$f":"Res!AI127+Res!AL127","v":0},{"$f":"Res!AI128+Res!AL128","v":0},{"$f":"Res!AI129+Res!AL129","v":0},{"$f":"Res!AI130+Res!AL130","v":0},{"$f":"Res!$M$131+Res!$P$131","v":28}]
[15,{"$f":"Res!B99","v":"OLERON 3"},{"$f":"Res!E100","v":13},{"$f":"Res!E101","v":9},{"$f":"Res!E102","v":8},{"$f":"Res!E103","v":9},{"$f":"Res!E104","v":4},{"$f":"Res!E105","v":17},{"$f":"Res!I100","v":11},{"$f":"Res!I101","v":8},{"$f":"Res!I102","v":4},{"$f":"Res!I103","v":7},{"$f":"Res!I104","v":10},{"$f":"Res!I105","v":10},{"$f":"Res!E106","v":56},{"$f":"Res!I106","v":46},102,{"$f":"Res!M100+Res!P100","v":8},{"$f":"Res!M101+Res!P101","v":28},{"$f":"Res!M102+Res!P102","v":18},{"$f":"Res!M103+Res!P103","v":19},{"$f":"Res!$M$104+Res!$P$104","v":17},11,{"$f":"Res!X126","v":0},{"$f":"Res!AA127","v":0},16,"LA ROCHELLE 2",0,{"$f":"Res!AA140","v":0},{"$f":"Res!AA141","v":0},{"$f":"Res!AE136","v":0},{"$f":"Res!AE137","v":0},{"$f":"Res!AE138","v":0},{"$f":"Res!AE139","v":0},{"$f":"Res!AE140","v":0},{"$f":"Res!AE141","v":0},{"$f":"Res!AA142","v":0},{"$f":"Res!AE142","v":0},0,{"$f":"Res!AI136+Res!AL136","v":0},{"$f":"Res!AI137+Res!AL137","v":0},{"$f":"Res!AI138+Res!AL138","v":0},{"$f":"Res!AI139+Res!AL139","v":0},{"$f":"Res!AI140+Res!AL140","v":0}]
[16,{"$f":"Res!B117","v":"ROYAN 2"},{"$f":"Res!E118","v":26},{"$f":"Res!E119","v":23},{"$f":"Res!E120","v":19},{"$f":"Res!E121","v":14},{"$f":"Res!E122","v":12},{"$f":"Res!E123","v":9},{"$f":"Res!I118","v":0},{"$f":"Res!I119","v":0},{"$f":"Res!I120","v":0},{"$f":"Res!I121","v":0},{"$f":"Res!I122","v":0},{"$f":"Res!I123","v":0},{"$f":"Res!E124","v":94},{"$f":"Res!I124","v":0},94,{"$f":"Res!M118+Res!P118","v":9},{"$f":"Res!M119+Res!P119","v":26},{"$f":"Res!M120+Res!P120","v":{"$error":"#NUM!"}},{"$f":"Res!M121+Res!P121","v":{"$error":"#NUM!"}},{"$f":"Res!$M$122+Res!$P$122","v":{"$error":"#NUM!"}},13,{"$f":"Res!X135","v":0},{"$f":"Res!AA136","v":0},17,"LA PALMYRE 3",0,{"$f":"Res!AA149","v":0},{"$f":"Res!AA150","v":0},{"$f":"Res!AE145","v":0},{"$f":"Res!AE146","v":0},{"$f":"Res!AE147","v":0},{"$f":"Res!AE148","v":0},{"$f":"Res!AE149","v":0},{"$f":"Res!AE150","v":0},{"$f":"Res!AA151","v":0},{"$f":"Res!AE151","v":0},0,{"$f":"Res!AI145+Res!AL145","v":0},{"$f":"Res!AI146+Res!AL146","v":0},{"$f":"Res!AI147+Res!AL147","v":0},{"$f":"Res!AI148+Res!AL148","v":0},{"$f":"Res!AI149+Res!AL149","v":0}]
[17,{"$f":"Res!B108","v":"ROYAN 1"},{"$f":"Res!E109","v":22},{"$f":"Res!E110","v":17},{"$f":"Res!E111","v":17},{"$f":"Res!E112","v":19},{"$f":"Res!E113","v":8},{"$f":"Res!E114","v":10},{"$f":"Res!I109","v":0},{"$f":"Res!I110","v":0},{"$f":"Res!I111","v":0},{"$f":"Res!I112","v":0},{"$f":"Res!I113","v":0},{"$f":"Res!I114","v":0},{"$f":"Res!E115","v":85},{"$f":"Res!I115","v":0},85,{"$f":"Res!M109+Res!P109","v":8},{"$f":"Res!M110+Res!P110","v":22},{"$f":"Res!M111+Res!P111","v":{"$error":"#NUM!"}},{"$f":"Res!M112+Res!P112","v":{"$error":"#NUM!"}},{"$f":"Res!$M$113+Res!$P$113","v":{"$error":"#NUM!"}},12,{"$f":"Res!X27","v":0},{"$f":"Res!AA28","v":0},18,"LA PALMYRE 2",0,{"$f":"Res!AA158","v":0},{"$f":"Res!AA159","v":0},{"$f":"Res!AE154","v":0},{"$f":"Res!AE155","v":0},{"$f":"Res!AE156","v":0},{"$f":"Res!AE157","v":0},{"$f":"Res!AE158","v":0},{"$f":"Res!AE159","v":0},{"$f":"Res!AA160","v":0},{"$f":"Res!AE160","v":0},0,{"$f":"Res!AI154+Res!AL154","v":0},{"$f":"Res!AI155+Res!AL155","v":0},{"$f":"Res!AI156+Res!AL156","v":0},{"$f":"Res!AI157+Res!AL157","v":0},{"$f":"Res!AI158+Res!AL158","v":0}]
[18,{"$f":"Res!B198","v":"LA VALLADE 1"},{"$f":"Res!E199","v":0},{"$f":"Res!E200","v":0},{"$f":"Res!E201","v":0},{"$f":"Res!E202","v":0},{"$f":"Res!E203","v":0},{"$f":"Res!E204","v":0},{"$f":"Res!I199","v":15},{"$f":"Res!I200","v":7},{"$f":"Res!I201","v":8},{"$f":"Res!I202","v":14},{"$f":"Res!I203","v":14},{"$f":"Res!I204","v":16},{"$f":"Res!E205","v":0},{"$f":"Res!I205","v":67},67,{"$f":"Res!M199+Res!P199","v":7},{"$f":"Res!M200+Res!P200","v":16},{"$f":"Res!M201+Res!P201","v":{"$error":"#NUM!"}},{"$f":"Res!M202+Res!P202","v":{"$error":"#NUM!"}},{"$f":"Res!M203+Res!P203","v":{"$error":"#NUM!"}},{"$f":"Res!M204+Res!P204","v":{"$error":"#NUM!"}},null,22,19,"OLERON 3",0,{"$f":"Res!AA167","v":0},{"$f":"Res!AA168","v":0},{"$f":"Res!AE163","v":0},{"$f":"Res!AE164","v":0},{"$f":"Res!AE165","v":0},{"$f":"Res!AE166","v":0},{"$f":"Res!AE167","v":0},{"$f":"Res!AE168","v":0},{"$f":"Res!AA169","v":0},{"$f":"Res!AE169","v":0},0,{"$f":"Res!AI163+Res!AL163","v":0},{"$f":"Res!AI164+Res!AL164","v":0},{"$f":"Res!AI165+Res!AL165","v":0},{"$f":"Res!AI166+Res!AL166","v":0},{"$f":"Res!AI167+Res!AL167","v":0}]
[19,{"$f":"Res!B207","v":"SAINTONGE 3"},{"$f":"Res!E208","v":0},{"$f":"Res!E209","v":0},{"$f":"Res!E210","v":0},{"$f":"Res!E211","v":0},{"$f":"Res!E212","v":0},{"$f":"Res!E213","v":0},{"$f":"Res!I208","v":9},{"$f":"Res!I209","v":13},{"$f":"Res!I210","v":12},{"$f":"Res!I211","v":11},{"$f":"Res!I212","v":20},{"$f":"Res!I213","v":10},{"$f":"Res!E214","v":0},{"$f":"Res!I214","v":66},66,{"$f":"Res!M208+Res!P208","v":9},{"$f":"Res!M209+Res!P209","v":20},{"$f":"Res!M210+Res!P210","v":{"$error":"#NUM!"}},{"$f":"Res!M211+Res!P211","v":{"$error":"#NUM!"}},{"$f":"Res!M212+Res!P212","v":{"$error":"#NUM!"}},{"$f":"Res!M213+Res!P213","v":{"$error":"#NUM!"}},null,23,20,"LA ROCHELLE 3",0,{"$f":"Res!AA176","v":0},{"$f":"Res!AA177","v":0},{"$f":"Res!AE172","v":0},{"$f":"Res!AE173","v":0},{"$f":"Res!AE174","v":0},{"$f":"Res!AE175","v":0},{"$f":"Res!AE176","v":0},{"$f":"Res!AE177","v":0},{"$f":"Res!AA178","v":0},{"$f":"Res!AE178","v":0},0,{"$f":"Res!AI172+Res!AL172","v":0},{"$f":"Res!AI173+Res!AL173","v":0},{"$f":"Res!AI174+Res!AL174","v":0},{"$f":"Res!AI175+Res!AL175","v":0},{"$f":"Res!AI176+Res!AL176","v":0}]
[20,{"$f":"Res!B45","v":"LA PALMYRE 3"},{"$f":"Res!E46","v":13},{"$f":"Res!E47","v":0},{"$f":"Res!E48","v":15},{"$f":"Res!E49","v":15},{"$f":"Res!E50","v":11},{"$f":"Res!E51","v":8},{"$f":"Res!I46","v":0},{"$f":"Res!I47","v":0},{"$f":"Res!I48","v":0},{"$f":"Res!I49","v":0},{"$f":"Res!I50","v":0},{"$f":"Res!I51","v":0},{"$f":"Res!E52","v":62},{"$f":"Res!I52","v":0},62,{"$f":"Res!M46+Res!P46","v":0},{"$f":"Res!M47+Res!P47","v":15},{"$f":"Res!M48+Res!P48","v":{"$error":"#NUM!"}},{"$f":"Res!M49+Res!P49","v":{"$error":"#NUM!"}},{"$f":"Res!$M$50+Res!$P$50","v":{"$error":"#NUM!"}},5,{"$f":"Res!X99","v":0},{"$f":"Res!AA100","v":0},21,"MONTENDRE 2",0,{"$f":"Res!AA185","v":0},{"$f":"Res!AA186","v":0},{"$f":"Res!AE181","v":0},{"$f":"Res!AE182","v":0},{"$f":"Res!AE183","v":0},{"$f":"Res!AE184","v":0},{"$f":"Res!AE185","v":0},{"$f":"Res!AE186","v":0},{"$f":"Res!AA187","v":0},{"$f":"Res!AE187","v":0},0,{"$f":"Res!AI181+Res!AL181","v":0},{"$f":"Res!AI182+Res!AL182","v":0},{"$f":"Res!AI183+Res!AL183","v":0},{"$f":"Res!AI184+Res!AL184","v":0},{"$f":"Res!AI185+Res!AL185","v":0}]
[21,{"$f":"Res!B36","v":"LA PALMYRE 2"},{"$f":"Res!E37","v":19},{"$f":"Res!E38","v":10},{"$f":"Res!E39","v":13},{"$f":"Res!E40","v":5},{"$f":"Res!E41","v":7},{"$f":"Res!E42","v":7},{"$f":"Res!I37","v":0},{"$f":"Res!I38","v":0},{"$f":"Res!I39","v":0},{"$f":"Res!I40","v":0},{"$f":"Res!I41","v":0},{"$f":"Res!I42","v":0},{"$f":"Res!E43","v":56},{"$f":"Res!I43","v":0},56,{"$f":"Res!M37+Res!P37","v":5},{"$f":"Res!M38+Res!P38","v":19},{"$f":"Res!M39+Res!P39","v":{"$error":"#NUM!"}},{"$f":"Res!M40+Res!P40","v":{"$error":"#NUM!"}},{"$f":"Res!$M$41+Res!$P$41","v":{"$error":"#NUM!"}},4,{"$f":"Res!X36","v":0},{"$f":"Res!AA37","v":0},8,"MONTENDRE 3",0]
[22,{"$f":"Res!B171","v":"LA ROCHELLE 3"},{"$f":"Res!E172","v":16},{"$f":"Res!E173","v":13},{"$f":"Res!E174","v":10},{"$f":"Res!E175","v":12},{"$f":"Res!E176","v":4},{"$f":"Res!E177","v":4},{"$f":"Res!I172","v":0},{"$f":"Res!I173","v":0},{"$f":"Res!I174","v":0},{"$f":"Res!I175","v":0},{"$f":"Res!I176","v":0},{"$f":"Res!I177","v":0},{"$f":"Res!E178","v":55},{"$f":"Res!I178","v":0},55,{"$f":"Res!M172+Res!P172","v":4},{"$f":"Res!M173+Res!P173","v":16},{"$f":"Res!M174+Res!P174","v":{"$error":"#NUM!"}},{"$f":"Res!M175+Res!P175","v":{"$error":"#NUM!"}},{"$f":"Res!M176+Res!P176","v":{"$error":"#NUM!"}},19,{"$f":"Res!X144","v":0},{"$f":"Res!AA145","v":0},22,0,22]
[23,{"$f":"Res!B72","v":"MONTENDRE 3"},{"$f":"Res!E73","v":11},{"$f":"Res!E74","v":5},{"$f":"Res!E75","v":5},{"$f":"Res!E76","v":3},{"$f":"Res!E77","v":"for"},{"$f":"Res!E78","v":"for"},{"$f":"Res!I73","v":9},{"$f":"Res!I74","v":3},{"$f":"Res!I75","v":6},{"$f":"Res!I76","v":11},{"$f":"Res!I77","v":12},{"$f":"Res!I78","v":0},{"$f":"Res!E79","v":"FOR"},{"$f":"Res!I79","v":41},1,{"$f":"Res!M73+Res!P73","v":0},{"$f":"Res!M74+Res!P74","v":23},{"$f":"Res!M75+Res!P75","v":16},{"$f":"Res!M76+Res!P76","v":14},{"$f":"Res!$M$77+Res!$P$77","v":9},8,{"$f":"Res!X162","v":0},{"$f":"Res!AA163","v":0},23,0,23]
[24,{"$f":"Res!B216","v":0},{"$f":"Res!E217","v":0},{"$f":"Res!E218","v":0},{"$f":"Res!E219","v":0},{"$f":"Res!E220","v":0},{"$f":"Res!E221","v":0},{"$f":"Res!E222","v":0},{"$f":"Res!I217","v":0},{"$f":"Res!I218","v":0},{"$f":"Res!I219","v":0},{"$f":"Res!I220","v":0},{"$f":"Res!I221","v":0},{"$f":"Res!I222","v":0},{"$f":"Res!E223","v":0},{"$f":"Res!I223","v":0},{"$f":"IF(OR(O34=\"FOR\",P34=\"FOR\"),1,IF(OR(ISTEXT(O34),ISTEXT(P34)),2,(O34)+(P34)))","v":0},{"$f":"Res!M217+Res!P217","v":0},{"$f":"Res!M218+Res!P218","v":0},{"$f":"Res!M219+Res!P219","v":{"$error":"#NUM!"}},{"$f":"Res!M220+Res!P220","v":{"$error":"#NUM!"}},{"$f":"Res!M221+Res!P221","v":{"$error":"#NUM!"}},{"$f":"Res!M222+Res!P222","v":{"$error":"#NUM!"}},null,24,24,0,24]

{"sheet":"Feuil1","index":4,"n_rows":0,"n_cols":0,"rows_kept":0,"cut":false,"hidden":false,"merged":[]}

{"sheet":"Feuil2","index":5,"n_rows":0,"n_cols":0,"rows_kept":0,"cut":false,"hidden":false,"merged":[]}